BEGIN:VCALENDAR
VERSION:2.0
PRODID:-//Woodfords Family Services - ECPv6.15.20//NONSGML v1.0//EN
CALSCALE:GREGORIAN
METHOD:PUBLISH
X-ORIGINAL-URL:https://www.woodfords.org
X-WR-CALDESC:Events for Woodfords Family Services
REFRESH-INTERVAL;VALUE=DURATION:PT1H
X-Robots-Tag:noindex
X-PUBLISHED-TTL:PT1H
BEGIN:VTIMEZONE
TZID:America/New_York
BEGIN:DAYLIGHT
TZOFFSETFROM:-0500
TZOFFSETTO:-0400
TZNAME:EDT
DTSTART:20220313T070000
END:DAYLIGHT
BEGIN:STANDARD
TZOFFSETFROM:-0400
TZOFFSETTO:-0500
TZNAME:EST
DTSTART:20221106T060000
END:STANDARD
BEGIN:DAYLIGHT
TZOFFSETFROM:-0500
TZOFFSETTO:-0400
TZNAME:EDT
DTSTART:20230312T070000
END:DAYLIGHT
BEGIN:STANDARD
TZOFFSETFROM:-0400
TZOFFSETTO:-0500
TZNAME:EST
DTSTART:20231105T060000
END:STANDARD
BEGIN:DAYLIGHT
TZOFFSETFROM:-0500
TZOFFSETTO:-0400
TZNAME:EDT
DTSTART:20240310T070000
END:DAYLIGHT
BEGIN:STANDARD
TZOFFSETFROM:-0400
TZOFFSETTO:-0500
TZNAME:EST
DTSTART:20241103T060000
END:STANDARD
END:VTIMEZONE
BEGIN:VEVENT
DTSTART;TZID=America/New_York:20231201T123000
DTEND;TZID=America/New_York:20231201T153000
DTSTAMP:20260422T194834
CREATED:20230825T184322Z
LAST-MODIFIED:20230825T184322Z
UID:9119-1701433800-1701444600@www.woodfords.org
SUMMARY:Safety-Care for Families; Advanced Skills Part II
DESCRIPTION:Safety-Care for Families provides parents\, family members and caregivers with the skills\, interventions and confidence needed to improve behavior and to prevent\, minimize and manage potentially dangerous incidents. \nAdvanced Skills Part II topics include emergency physical intervention\, one-person stability hold\, two-person stability hold (optional)\, releasing from stability hold\, recovery and debriefing. \n Prerequisites: Essential Skills Part I\, Essential Skills Part II\, Advanced Skills Part I. \nA Safety-Care for Families Referral Form signed by a state-licensed physician\, nurse practitioner\, psychologist\, social worker\, mental health counselor\, or BCBA is required for attendance at the Advanced Skills sessions due to the physical component. \nThis training is free to families currently receiving services through Woodfords; for all others the fee is $25. \nAdvanced registration required. Please find additional information and registration materials here:
URL:https://www.woodfords.org/training-calendar/safety-care-for-families-advanced-skills-part-ii-8-2/
LOCATION:Westbrook Training & Resource Center\, 15 Saunders Way\, Ste 700\, Westbrook\, ME\, 04092\, United States
CATEGORIES:Community,Parent Trainings,Training Calendar
ORGANIZER;CN="Training Center":MAILTO:trainingcenter@woodfords.org
END:VEVENT
END:VCALENDAR