BEGIN:VCALENDAR
VERSION:2.0
PRODID:-//Woodfords Family Services - ECPv6.15.20//NONSGML v1.0//EN
CALSCALE:GREGORIAN
METHOD:PUBLISH
X-ORIGINAL-URL:https://www.woodfords.org
X-WR-CALDESC:Events for Woodfords Family Services
REFRESH-INTERVAL;VALUE=DURATION:PT1H
X-Robots-Tag:noindex
X-PUBLISHED-TTL:PT1H
BEGIN:VTIMEZONE
TZID:America/New_York
BEGIN:DAYLIGHT
TZOFFSETFROM:-0500
TZOFFSETTO:-0400
TZNAME:EDT
DTSTART:20220313T070000
END:DAYLIGHT
BEGIN:STANDARD
TZOFFSETFROM:-0400
TZOFFSETTO:-0500
TZNAME:EST
DTSTART:20221106T060000
END:STANDARD
BEGIN:DAYLIGHT
TZOFFSETFROM:-0500
TZOFFSETTO:-0400
TZNAME:EDT
DTSTART:20230312T070000
END:DAYLIGHT
BEGIN:STANDARD
TZOFFSETFROM:-0400
TZOFFSETTO:-0500
TZNAME:EST
DTSTART:20231105T060000
END:STANDARD
BEGIN:DAYLIGHT
TZOFFSETFROM:-0500
TZOFFSETTO:-0400
TZNAME:EDT
DTSTART:20240310T070000
END:DAYLIGHT
BEGIN:STANDARD
TZOFFSETFROM:-0400
TZOFFSETTO:-0500
TZNAME:EST
DTSTART:20241103T060000
END:STANDARD
END:VTIMEZONE
BEGIN:VEVENT
DTSTART;TZID=America/New_York:20230703T083000
DTEND;TZID=America/New_York:20230703T160000
DTSTAMP:20260423T133238
CREATED:20230412T170743Z
LAST-MODIFIED:20230412T170743Z
UID:11191-1688373000-1688400000@www.woodfords.org
SUMMARY:College of Direct Support Live Day 1 - MECDS 4\,5\,6\,7\,9
DESCRIPTION:This course compliments the online module content of the Maine College of Direct Support. Completion of both Day 1 and Day 2 are required for certification. Learners must be active users in the Maine College of Direct Support to register. \nAdvanced registration required. For more information\, please contact tr************@*******ds.org.
URL:https://www.woodfords.org/training-calendar/college-of-direct-support-live-day-1-mecds-45679-80-2/
LOCATION:Westbrook Training & Resource Center\, 15 Saunders Way\, Ste 700\, Westbrook\, ME\, 04092\, United States
CATEGORIES:College of Direct Support Live,Training Calendar,Virtual Classes
ORGANIZER;CN="Training Center":MAILTO:trainingcenter@woodfords.org
END:VEVENT
BEGIN:VEVENT
DTSTART;TZID=America/New_York:20230706T120000
DTEND;TZID=America/New_York:20230706T160000
DTSTAMP:20260423T133238
CREATED:20230412T170539Z
LAST-MODIFIED:20230412T170539Z
UID:11188-1688644800-1688659200@www.woodfords.org
SUMMARY:American Heart Association First Aid/CPR/AED
DESCRIPTION:This course uses a combination of video\, lecture\, and guided skills practice to teach participants to respond to cardiac and other health related emergency situations. Topics include basic first aid\, response to environmental emergencies\, warning signs of heart attack and stroke\, CPR\, and foreign object airway obstruction for adults\, children and infants. Participants should plan to dress in comfortably fitting clothing that allows flexibility of movement\, as the class includes both desk and floor work. Certification is valid for two years. Cost – $75
URL:https://www.woodfords.org/training-calendar/american-heart-association-first-aid-cpr-aed-91-2/
LOCATION:Westbrook Training & Resource Center\, 15 Saunders Way\, Ste 700\, Westbrook\, ME\, 04092\, United States
CATEGORIES:CPR,Training Calendar
ORGANIZER;CN="Training Center":MAILTO:trainingcenter@woodfords.org
END:VEVENT
BEGIN:VEVENT
DTSTART;TZID=America/New_York:20230710T083000
DTEND;TZID=America/New_York:20230710T160000
DTSTAMP:20260423T133238
CREATED:20230412T170825Z
LAST-MODIFIED:20230412T170825Z
UID:11192-1688977800-1689004800@www.woodfords.org
SUMMARY:College of Direct Support Live Day 1 - MECDS 4\,5\,6\,7\,9
DESCRIPTION:This course compliments the online module content of the Maine College of Direct Support. Completion of both Day 1 and Day 2 are required for certification. Learners must be active users in the Maine College of Direct Support to register. \nAdvanced registration required. For more information\, please contact tr************@*******ds.org.
URL:https://www.woodfords.org/training-calendar/college-of-direct-support-live-day-1-mecds-45679-81-2/
LOCATION:Westbrook Training & Resource Center\, 15 Saunders Way\, Ste 700\, Westbrook\, ME\, 04092\, United States
CATEGORIES:College of Direct Support Live,Training Calendar
ORGANIZER;CN="Training Center":MAILTO:trainingcenter@woodfords.org
END:VEVENT
BEGIN:VEVENT
DTSTART;TZID=America/New_York:20230711T083000
DTEND;TZID=America/New_York:20230711T160000
DTSTAMP:20260423T133238
CREATED:20230412T171905Z
LAST-MODIFIED:20230412T171905Z
UID:11204-1689064200-1689091200@www.woodfords.org
SUMMARY:College of Direct Support Live Day 2 - MECDS 1\,2\,3\,8\,10\,11
DESCRIPTION:This course compliments the online module content of the Maine College of Direct Support. Completion of both Day 1 and Day 2 are required for certification. Learners must be active users in the Maine College of Direct Support to register. \nAdvanced registration required. For more information\, please contact tr************@*******ds.org.
URL:https://www.woodfords.org/training-calendar/college-of-direct-support-live-day-2-mecds-12381011-36-2/
LOCATION:Westbrook Training & Resource Center\, 15 Saunders Way\, Ste 700\, Westbrook\, ME\, 04092\, United States
CATEGORIES:College of Direct Support Live,Training Calendar
ORGANIZER;CN="Training Center":MAILTO:trainingcenter@woodfords.org
END:VEVENT
BEGIN:VEVENT
DTSTART;TZID=America/New_York:20230718T083000
DTEND;TZID=America/New_York:20230718T160000
DTSTAMP:20260423T133238
CREATED:20230412T171151Z
LAST-MODIFIED:20230412T171151Z
UID:11193-1689669000-1689696000@www.woodfords.org
SUMMARY:College of Direct Support Live Day 1 - MECDS 4\,5\,6\,7\,9
DESCRIPTION:This course compliments the online module content of the Maine College of Direct Support. Completion of both Day 1 and Day 2 are required for certification. Learners must be active users in the Maine College of Direct Support to register. \nAdvanced registration required. For more information\, please contact tr************@*******ds.org.
URL:https://www.woodfords.org/training-calendar/college-of-direct-support-live-day-1-mecds-45679-82-2/
LOCATION:Westbrook Training & Resource Center\, 15 Saunders Way\, Ste 700\, Westbrook\, ME\, 04092\, United States
CATEGORIES:College of Direct Support Live,Training Calendar
ORGANIZER;CN="Training Center":MAILTO:trainingcenter@woodfords.org
END:VEVENT
BEGIN:VEVENT
DTSTART;TZID=America/New_York:20230719T130000
DTEND;TZID=America/New_York:20230719T160000
DTSTAMP:20260423T133238
CREATED:20230412T170109Z
LAST-MODIFIED:20230412T170109Z
UID:11182-1689771600-1689782400@www.woodfords.org
SUMMARY:CRMA Review
DESCRIPTION:The CRMA Recertification Review class is recommended for all students prior to taking the CRMA Recertification class. This class will cover filling out a MAR sheet using doctors’ orders\, a medication pass\, a demonstration of vital sign skills and a general question and answer review in preparation for the CRMA Recertification class.
URL:https://www.woodfords.org/training-calendar/crma-review-9-2/
LOCATION:Westbrook Training & Resource Center\, 15 Saunders Way\, Ste 700\, Westbrook\, ME\, 04092\, United States
CATEGORIES:CRMA Review & Recertification,CRMA Training,Training Calendar
ORGANIZER;CN="Training Center":MAILTO:trainingcenter@woodfords.org
END:VEVENT
BEGIN:VEVENT
DTSTART;TZID=America/New_York:20230721T083000
DTEND;TZID=America/New_York:20230721T123000
DTSTAMP:20260423T133238
CREATED:20230412T170625Z
LAST-MODIFIED:20230412T170625Z
UID:11189-1689928200-1689942600@www.woodfords.org
SUMMARY:American Heart Association First Aid/CPR/AED
DESCRIPTION:This course uses a combination of video\, lecture\, and guided skills practice to teach participants to respond to cardiac and other health related emergency situations. Topics include basic first aid\, response to environmental emergencies\, warning signs of heart attack and stroke\, CPR\, and foreign object airway obstruction for adults\, children and infants. Participants should plan to dress in comfortably fitting clothing that allows flexibility of movement\, as the class includes both desk and floor work. Certification is valid for two years. Cost – $75
URL:https://www.woodfords.org/training-calendar/american-heart-association-first-aid-cpr-aed-92-2/
LOCATION:Westbrook Training & Resource Center\, 15 Saunders Way\, Ste 700\, Westbrook\, ME\, 04092\, United States
CATEGORIES:CPR,Training Calendar
ORGANIZER;CN="Training Center":MAILTO:trainingcenter@woodfords.org
END:VEVENT
BEGIN:VEVENT
DTSTART;TZID=America/New_York:20230724T083000
DTEND;TZID=America/New_York:20230724T160000
DTSTAMP:20260423T133238
CREATED:20230412T171303Z
LAST-MODIFIED:20230412T171303Z
UID:11195-1690187400-1690214400@www.woodfords.org
SUMMARY:College of Direct Support Live Day 1 - MECDS 4\,5\,6\,7\,9
DESCRIPTION:This course compliments the online module content of the Maine College of Direct Support. Completion of both Day 1 and Day 2 are required for certification. Learners must be active users in the Maine College of Direct Support to register. \nAdvanced registration required. For more information\, please contact tr************@*******ds.org.
URL:https://www.woodfords.org/training-calendar/college-of-direct-support-live-day-1-mecds-45679-84-2/
LOCATION:Virtual – Adobe Connect
CATEGORIES:College of Direct Support Live,Training Calendar,Virtual Classes
ORGANIZER;CN="Training Center":MAILTO:trainingcenter@woodfords.org
END:VEVENT
BEGIN:VEVENT
DTSTART;TZID=America/New_York:20230725T083000
DTEND;TZID=America/New_York:20230725T123000
DTSTAMP:20260423T133238
CREATED:20230412T170713Z
LAST-MODIFIED:20230412T170713Z
UID:11190-1690273800-1690288200@www.woodfords.org
SUMMARY:American Heart Association First Aid/CPR/AED
DESCRIPTION:This course uses a combination of video\, lecture\, and guided skills practice to teach participants to respond to cardiac and other health related emergency situations. Topics include basic first aid\, response to environmental emergencies\, warning signs of heart attack and stroke\, CPR\, and foreign object airway obstruction for adults\, children and infants. Participants should plan to dress in comfortably fitting clothing that allows flexibility of movement\, as the class includes both desk and floor work. Certification is valid for two years. Cost – $75
URL:https://www.woodfords.org/training-calendar/american-heart-association-first-aid-cpr-aed-93-2/
LOCATION:Westbrook Training & Resource Center\, 15 Saunders Way\, Ste 700\, Westbrook\, ME\, 04092\, United States
CATEGORIES:CPR,Training Calendar
ORGANIZER;CN="Training Center":MAILTO:trainingcenter@woodfords.org
END:VEVENT
BEGIN:VEVENT
DTSTART;TZID=America/New_York:20230726T080000
DTEND;TZID=America/New_York:20230726T170000
DTSTAMP:20260423T133238
CREATED:20230412T170133Z
LAST-MODIFIED:20230412T170133Z
UID:11183-1690358400-1690390800@www.woodfords.org
SUMMARY:CRMA Recertification
DESCRIPTION:This 8-hour class is designed for recertification of CRMA students who have completed the 24 or 40 hour CRMA course. Participants taking this course should already possess the ability to transcribe orders onto an MAR with 100% accuracy. The class will include demonstration of skills through a mock medication pass and a written exam. All students MUST bring a copy of their CRMA Bridge certificate\, or a copy of their 24 or 40 hour CRMA certificate issued by the state and a current driver’s license or identification card. The CRMA Recertification Review class is recommended for all students prior to taking the Recertification class.
URL:https://www.woodfords.org/training-calendar/crma-recertification-9-2/
LOCATION:Westbrook Training & Resource Center\, 15 Saunders Way\, Ste 700\, Westbrook\, ME\, 04092\, United States
CATEGORIES:CRMA Review & Recertification,CRMA Training,Training Calendar
ORGANIZER;CN="Training Center":MAILTO:trainingcenter@woodfords.org
END:VEVENT
BEGIN:VEVENT
DTSTART;TZID=America/New_York:20230726T083000
DTEND;TZID=America/New_York:20230726T160000
DTSTAMP:20260423T133238
CREATED:20230412T171755Z
LAST-MODIFIED:20230412T171755Z
UID:11202-1690360200-1690387200@www.woodfords.org
SUMMARY:College of Direct Support Live Day 2 - MECDS 1\,2\,3\,8\,10\,11
DESCRIPTION:This course compliments the online module content of the Maine College of Direct Support. Completion of both Day 1 and Day 2 are required for certification. Learners must be active users in the Maine College of Direct Support to register. \nAdvanced registration required. For more information\, please contact tr************@*******ds.org.
URL:https://www.woodfords.org/training-calendar/college-of-direct-support-live-day-2-mecds-12381011-34-2/
LOCATION:Virtual – Adobe Connect
CATEGORIES:College of Direct Support Live,Training Calendar,Virtual Classes
ORGANIZER;CN="Training Center":MAILTO:trainingcenter@woodfords.org
END:VEVENT
BEGIN:VEVENT
DTSTART;TZID=America/New_York:20230728T090000
DTEND;TZID=America/New_York:20230728T130000
DTSTAMP:20260423T133238
CREATED:20230412T170508Z
LAST-MODIFIED:20230412T170508Z
UID:11187-1690534800-1690549200@www.woodfords.org
SUMMARY:American Heart Association First Aid/CPR/AED
DESCRIPTION:This course uses a combination of video\, lecture\, and guided skills practice to teach participants to respond to cardiac and other health related emergency situations. Topics include basic first aid\, response to environmental emergencies\, warning signs of heart attack and stroke\, CPR\, and foreign object airway obstruction for adults\, children and infants. Participants should plan to dress in comfortably fitting clothing that allows flexibility of movement\, as the class includes both desk and floor work. Certification is valid for two years. Cost – $75
URL:https://www.woodfords.org/training-calendar/american-heart-association-first-aid-cpr-aed-90-2/
LOCATION:Central Maine Office\, 747 Western Ave. #2\, Manchester\, Maine\, 04351\, United States
CATEGORIES:CPR,Training Calendar
ORGANIZER;CN="Training Center":MAILTO:trainingcenter@woodfords.org
END:VEVENT
BEGIN:VEVENT
DTSTART;TZID=America/New_York:20230731T083000
DTEND;TZID=America/New_York:20230731T160000
DTSTAMP:20260423T133238
CREATED:20230412T171243Z
LAST-MODIFIED:20230412T171243Z
UID:11194-1690792200-1690819200@www.woodfords.org
SUMMARY:College of Direct Support Live Day 1 - MECDS 4\,5\,6\,7\,9
DESCRIPTION:This course compliments the online module content of the Maine College of Direct Support. Completion of both Day 1 and Day 2 are required for certification. Learners must be active users in the Maine College of Direct Support to register. \nAdvanced registration required. For more information\, please contact tr************@*******ds.org.
URL:https://www.woodfords.org/training-calendar/college-of-direct-support-live-day-1-mecds-45679-83-2/
LOCATION:Westbrook Training & Resource Center\, 15 Saunders Way\, Ste 700\, Westbrook\, ME\, 04092\, United States
CATEGORIES:College of Direct Support Live,Training Calendar
ORGANIZER;CN="Training Center":MAILTO:trainingcenter@woodfords.org
END:VEVENT
BEGIN:VEVENT
DTSTART;TZID=America/New_York:20230731T090000
DTEND;TZID=America/New_York:20230731T130000
DTSTAMP:20260423T133238
CREATED:20230412T165755Z
LAST-MODIFIED:20230412T165755Z
UID:11177-1690794000-1690808400@www.woodfords.org
SUMMARY:Shared Living Medication Administration - Recertification
DESCRIPTION:The Shared Living Medication Administration Recertification course is designed for people who were previously certified to administer medications in Shared Living or Family-Centered Home Support settings funded under MaineCare section 21 and need to recertify. Recertification is required every 2 years. Advanced registration required. Due to the need to mail materials prior\, there is an enrollment deadline for virtual sessions. Please register at least one week prior to any virtual session date. Cost: $65.
URL:https://www.woodfords.org/training-calendar/shared-living-medication-administration-recertification-4-2/
LOCATION:Virtual – Zoom
CATEGORIES:Training Calendar,Virtual Classes
ORGANIZER;CN="Training Center":MAILTO:trainingcenter@woodfords.org
END:VEVENT
END:VCALENDAR