BEGIN:VCALENDAR
VERSION:2.0
PRODID:-//Woodfords Family Services - ECPv6.15.20//NONSGML v1.0//EN
CALSCALE:GREGORIAN
METHOD:PUBLISH
X-ORIGINAL-URL:https://www.woodfords.org
X-WR-CALDESC:Events for Woodfords Family Services
REFRESH-INTERVAL;VALUE=DURATION:PT1H
X-Robots-Tag:noindex
X-PUBLISHED-TTL:PT1H
BEGIN:VTIMEZONE
TZID:America/New_York
BEGIN:DAYLIGHT
TZOFFSETFROM:-0500
TZOFFSETTO:-0400
TZNAME:EDT
DTSTART:20220313T070000
END:DAYLIGHT
BEGIN:STANDARD
TZOFFSETFROM:-0400
TZOFFSETTO:-0500
TZNAME:EST
DTSTART:20221106T060000
END:STANDARD
BEGIN:DAYLIGHT
TZOFFSETFROM:-0500
TZOFFSETTO:-0400
TZNAME:EDT
DTSTART:20230312T070000
END:DAYLIGHT
BEGIN:STANDARD
TZOFFSETFROM:-0400
TZOFFSETTO:-0500
TZNAME:EST
DTSTART:20231105T060000
END:STANDARD
BEGIN:DAYLIGHT
TZOFFSETFROM:-0500
TZOFFSETTO:-0400
TZNAME:EDT
DTSTART:20240310T070000
END:DAYLIGHT
BEGIN:STANDARD
TZOFFSETFROM:-0400
TZOFFSETTO:-0500
TZNAME:EST
DTSTART:20241103T060000
END:STANDARD
END:VTIMEZONE
BEGIN:VEVENT
DTSTART;TZID=America/New_York:20230104T083000
DTEND;TZID=America/New_York:20230104T170000
DTSTAMP:20260420T192334
CREATED:20221118T165822Z
LAST-MODIFIED:20221118T165822Z
UID:11113-1672821000-1672851600@www.woodfords.org
SUMMARY:CRMA - Day 1
DESCRIPTION:To register for our 24-hour CRMA trainings\, participants must work for an organization where they are able to complete the medication passes required for certification.
URL:https://www.woodfords.org/training-calendar/crma-day-1-4-3/
LOCATION:Westbrook Training & Resource Center\, 15 Saunders Way\, Ste 700\, Westbrook\, ME\, 04092\, United States
CATEGORIES:CRMA Training,Training Calendar
ORGANIZER;CN="Training Center":MAILTO:trainingcenter@woodfords.org
END:VEVENT
BEGIN:VEVENT
DTSTART;TZID=America/New_York:20230104T083000
DTEND;TZID=America/New_York:20230104T170000
DTSTAMP:20260420T192334
CREATED:20221118T165822Z
LAST-MODIFIED:20230104T205646Z
UID:8346-1672821000-1672851600@www.woodfords.org
SUMMARY:CRMA - Day 1
DESCRIPTION:To register for our 24-hour CRMA trainings\, participants must work for an organization where they are able to complete the medication passes required for certification.
URL:https://www.woodfords.org/training-calendar/crma-day-1-4/
LOCATION:Westbrook Training & Resource Center\, 15 Saunders Way\, Ste 700\, Westbrook\, ME\, 04092\, United States
CATEGORIES:CRMA Training,Training Calendar
ORGANIZER;CN="Training Center":MAILTO:trainingcenter@woodfords.org
END:VEVENT
BEGIN:VEVENT
DTSTART;TZID=America/New_York:20230109T083000
DTEND;TZID=America/New_York:20230109T170000
DTSTAMP:20260420T192334
CREATED:20221118T165842Z
LAST-MODIFIED:20230104T205641Z
UID:8345-1673253000-1673283600@www.woodfords.org
SUMMARY:CRMA - Day 2
DESCRIPTION:To register for our 24-hour CRMA trainings\, participants must work for an organization where they are able to complete the medication passes required for certification.
URL:https://www.woodfords.org/training-calendar/crma-day-2-4/
LOCATION:Westbrook Training & Resource Center\, 15 Saunders Way\, Ste 700\, Westbrook\, ME\, 04092\, United States
CATEGORIES:CRMA Training,Training Calendar
ORGANIZER;CN="Training Center":MAILTO:trainingcenter@woodfords.org
END:VEVENT
BEGIN:VEVENT
DTSTART;TZID=America/New_York:20230109T083000
DTEND;TZID=America/New_York:20230109T170000
DTSTAMP:20260420T192334
CREATED:20221118T165842Z
LAST-MODIFIED:20221118T165842Z
UID:11114-1673253000-1673283600@www.woodfords.org
SUMMARY:CRMA - Day 2
DESCRIPTION:To register for our 24-hour CRMA trainings\, participants must work for an organization where they are able to complete the medication passes required for certification.
URL:https://www.woodfords.org/training-calendar/crma-day-2-4-3/
LOCATION:Westbrook Training & Resource Center\, 15 Saunders Way\, Ste 700\, Westbrook\, ME\, 04092\, United States
CATEGORIES:CRMA Training,Training Calendar
ORGANIZER;CN="Training Center":MAILTO:trainingcenter@woodfords.org
END:VEVENT
BEGIN:VEVENT
DTSTART;TZID=America/New_York:20230110T080000
DTEND;TZID=America/New_York:20230110T170000
DTSTAMP:20260420T192334
CREATED:20220804T202530Z
LAST-MODIFIED:20221118T165335Z
UID:8167-1673337600-1673370000@www.woodfords.org
SUMMARY:CRMA Recertification
DESCRIPTION:This 8-hour class is designed for recertification of CRMA students who have completed the 24 or 40 hour CRMA course. Participants taking this course should already possess the ability to transcribe orders onto an MAR with 100% accuracy. The class will include demonstration of skills through a mock medication pass and a written exam. All students MUST bring a copy of their CRMA Bridge certificate\, or a copy of their 24 or 40 hour CRMA certificate issued by the state and a current driver’s license or identification card. The CRMA Recertification Review class is recommended for all students prior to taking the Recertification class.
URL:https://www.woodfords.org/training-calendar/crma-recertification-5/
LOCATION:Westbrook Training & Resource Center\, 15 Saunders Way\, Ste 700\, Westbrook\, ME\, 04092\, United States
CATEGORIES:CRMA Review & Recertification,CRMA Training,Training Calendar
ORGANIZER;CN="Training Center":MAILTO:trainingcenter@woodfords.org
END:VEVENT
BEGIN:VEVENT
DTSTART;TZID=America/New_York:20230110T080000
DTEND;TZID=America/New_York:20230110T170000
DTSTAMP:20260420T192334
CREATED:20220804T202530Z
LAST-MODIFIED:20220804T202530Z
UID:11088-1673337600-1673370000@www.woodfords.org
SUMMARY:CRMA Recertification
DESCRIPTION:This 8-hour class is designed for recertification of CRMA students who have completed the 24 or 40 hour CRMA course. Participants taking this course should already possess the ability to transcribe orders onto an MAR with 100% accuracy. The class will include demonstration of skills through a mock medication pass and a written exam. All students MUST bring a copy of their CRMA Bridge certificate\, or a copy of their 24 or 40 hour CRMA certificate issued by the state and a current driver’s license or identification card. The CRMA Recertification Review class is recommended for all students prior to taking the Recertification class.
URL:https://www.woodfords.org/training-calendar/crma-recertification-5-3/
LOCATION:Westbrook Training & Resource Center\, 15 Saunders Way\, Ste 700\, Westbrook\, ME\, 04092\, United States
CATEGORIES:CRMA Review & Recertification,CRMA Training,Training Calendar
ORGANIZER;CN="Training Center":MAILTO:trainingcenter@woodfords.org
END:VEVENT
BEGIN:VEVENT
DTSTART;TZID=America/New_York:20230208T083000
DTEND;TZID=America/New_York:20230208T170000
DTSTAMP:20260420T192334
CREATED:20221118T170722Z
LAST-MODIFIED:20230104T205620Z
UID:8365-1675845000-1675875600@www.woodfords.org
SUMMARY:CRMA - Day 1
DESCRIPTION:To register for our 24-hour CRMA trainings\, participants must work for an organization where they are able to complete the medication passes required for certification.
URL:https://www.woodfords.org/training-calendar/crma-day-1-5/
LOCATION:Westbrook Training & Resource Center\, 15 Saunders Way\, Ste 700\, Westbrook\, ME\, 04092\, United States
CATEGORIES:CRMA Training,Training Calendar
ORGANIZER;CN="Training Center":MAILTO:trainingcenter@woodfords.org
END:VEVENT
BEGIN:VEVENT
DTSTART;TZID=America/New_York:20230208T083000
DTEND;TZID=America/New_York:20230208T170000
DTSTAMP:20260420T192334
CREATED:20221118T170722Z
LAST-MODIFIED:20221118T170722Z
UID:11122-1675845000-1675875600@www.woodfords.org
SUMMARY:CRMA - Day 1
DESCRIPTION:To register for our 24-hour CRMA trainings\, participants must work for an organization where they are able to complete the medication passes required for certification.
URL:https://www.woodfords.org/training-calendar/crma-day-1-5-3/
LOCATION:Westbrook Training & Resource Center\, 15 Saunders Way\, Ste 700\, Westbrook\, ME\, 04092\, United States
CATEGORIES:CRMA Training,Training Calendar
ORGANIZER;CN="Training Center":MAILTO:trainingcenter@woodfords.org
END:VEVENT
BEGIN:VEVENT
DTSTART;TZID=America/New_York:20230210T083000
DTEND;TZID=America/New_York:20230210T170000
DTSTAMP:20260420T192334
CREATED:20221118T170744Z
LAST-MODIFIED:20230104T205609Z
UID:8367-1676017800-1676048400@www.woodfords.org
SUMMARY:CRMA - Day 2
DESCRIPTION:To register for our 24-hour CRMA trainings\, participants must work for an organization where they are able to complete the medication passes required for certification.
URL:https://www.woodfords.org/training-calendar/crma-day-2-5/
LOCATION:Westbrook Training & Resource Center\, 15 Saunders Way\, Ste 700\, Westbrook\, ME\, 04092\, United States
CATEGORIES:CRMA Training,Training Calendar
ORGANIZER;CN="Training Center":MAILTO:trainingcenter@woodfords.org
END:VEVENT
BEGIN:VEVENT
DTSTART;TZID=America/New_York:20230210T083000
DTEND;TZID=America/New_York:20230210T170000
DTSTAMP:20260420T192334
CREATED:20221118T170744Z
LAST-MODIFIED:20221118T170744Z
UID:11123-1676017800-1676048400@www.woodfords.org
SUMMARY:CRMA - Day 2
DESCRIPTION:To register for our 24-hour CRMA trainings\, participants must work for an organization where they are able to complete the medication passes required for certification.
URL:https://www.woodfords.org/training-calendar/crma-day-2-5-3/
LOCATION:Westbrook Training & Resource Center\, 15 Saunders Way\, Ste 700\, Westbrook\, ME\, 04092\, United States
CATEGORIES:CRMA Training,Training Calendar
ORGANIZER;CN="Training Center":MAILTO:trainingcenter@woodfords.org
END:VEVENT
BEGIN:VEVENT
DTSTART;TZID=America/New_York:20230214T083000
DTEND;TZID=America/New_York:20230214T170000
DTSTAMP:20260420T192334
CREATED:20230104T205354Z
LAST-MODIFIED:20230104T205354Z
UID:11158-1676363400-1676394000@www.woodfords.org
SUMMARY:CRMA - Day 3
DESCRIPTION:To register for our 24-hour CRMA trainings\, participants must work for an organization where they are able to complete the medication passes required for certification.
URL:https://www.woodfords.org/training-calendar/crma-day-3-8-3/
LOCATION:Westbrook Training & Resource Center\, 15 Saunders Way\, Ste 700\, Westbrook\, ME\, 04092\, United States
CATEGORIES:CRMA Training,Training Calendar
ORGANIZER;CN="Training Center":MAILTO:trainingcenter@woodfords.org
END:VEVENT
BEGIN:VEVENT
DTSTART;TZID=America/New_York:20230316T080000
DTEND;TZID=America/New_York:20230316T170000
DTSTAMP:20260420T192334
CREATED:20221118T171622Z
LAST-MODIFIED:20221118T171622Z
UID:11137-1678953600-1678986000@www.woodfords.org
SUMMARY:CRMA Recertification
DESCRIPTION:This 8-hour class is designed for recertification of CRMA students who have completed the 24 or 40 hour CRMA course. Participants taking this course should already possess the ability to transcribe orders onto an MAR with 100% accuracy. The class will include demonstration of skills through a mock medication pass and a written exam. All students MUST bring a copy of their CRMA Bridge certificate\, or a copy of their 24 or 40 hour CRMA certificate issued by the state and a current driver’s license or identification card. The CRMA Recertification Review class is recommended for all students prior to taking the Recertification class.
URL:https://www.woodfords.org/training-calendar/crma-recertification-6-3/
LOCATION:Westbrook Training & Resource Center\, 15 Saunders Way\, Ste 700\, Westbrook\, ME\, 04092\, United States
CATEGORIES:CRMA Review & Recertification,CRMA Training,Training Calendar
ORGANIZER;CN="Training Center":MAILTO:trainingcenter@woodfords.org
END:VEVENT
BEGIN:VEVENT
DTSTART;TZID=America/New_York:20230316T080000
DTEND;TZID=America/New_York:20230316T170000
DTSTAMP:20260420T192334
CREATED:20221118T171622Z
LAST-MODIFIED:20221118T171622Z
UID:8394-1678953600-1678986000@www.woodfords.org
SUMMARY:CRMA Recertification
DESCRIPTION:This 8-hour class is designed for recertification of CRMA students who have completed the 24 or 40 hour CRMA course. Participants taking this course should already possess the ability to transcribe orders onto an MAR with 100% accuracy. The class will include demonstration of skills through a mock medication pass and a written exam. All students MUST bring a copy of their CRMA Bridge certificate\, or a copy of their 24 or 40 hour CRMA certificate issued by the state and a current driver’s license or identification card. The CRMA Recertification Review class is recommended for all students prior to taking the Recertification class.
URL:https://www.woodfords.org/training-calendar/crma-recertification-6/
LOCATION:Westbrook Training & Resource Center\, 15 Saunders Way\, Ste 700\, Westbrook\, ME\, 04092\, United States
CATEGORIES:CRMA Review & Recertification,CRMA Training,Training Calendar
ORGANIZER;CN="Training Center":MAILTO:trainingcenter@woodfords.org
END:VEVENT
BEGIN:VEVENT
DTSTART;TZID=America/New_York:20230321T083000
DTEND;TZID=America/New_York:20230321T170000
DTSTAMP:20260420T192334
CREATED:20221118T171340Z
LAST-MODIFIED:20230104T205550Z
UID:8387-1679387400-1679418000@www.woodfords.org
SUMMARY:CRMA - Day 1
DESCRIPTION:To register for our 24-hour CRMA trainings\, participants must work for an organization where they are able to complete the medication passes required for certification.
URL:https://www.woodfords.org/training-calendar/crma-day-1-6/
LOCATION:Westbrook Training & Resource Center\, 15 Saunders Way\, Ste 700\, Westbrook\, ME\, 04092\, United States
CATEGORIES:CRMA Training,Training Calendar
ORGANIZER;CN="Training Center":MAILTO:trainingcenter@woodfords.org
END:VEVENT
BEGIN:VEVENT
DTSTART;TZID=America/New_York:20230321T083000
DTEND;TZID=America/New_York:20230321T170000
DTSTAMP:20260420T192334
CREATED:20221118T171340Z
LAST-MODIFIED:20221118T171340Z
UID:11133-1679387400-1679418000@www.woodfords.org
SUMMARY:CRMA - Day 1
DESCRIPTION:To register for our 24-hour CRMA trainings\, participants must work for an organization where they are able to complete the medication passes required for certification.
URL:https://www.woodfords.org/training-calendar/crma-day-1-6-3/
LOCATION:Westbrook Training & Resource Center\, 15 Saunders Way\, Ste 700\, Westbrook\, ME\, 04092\, United States
CATEGORIES:CRMA Training,Training Calendar
ORGANIZER;CN="Training Center":MAILTO:trainingcenter@woodfords.org
END:VEVENT
BEGIN:VEVENT
DTSTART;TZID=America/New_York:20230324T083000
DTEND;TZID=America/New_York:20230324T170000
DTSTAMP:20260420T192334
CREATED:20221118T171405Z
LAST-MODIFIED:20230104T205541Z
UID:8389-1679646600-1679677200@www.woodfords.org
SUMMARY:CRMA - Day 2
DESCRIPTION:To register for our 24-hour CRMA trainings\, participants must work for an organization where they are able to complete the medication passes required for certification.
URL:https://www.woodfords.org/training-calendar/crma-day-2-6/
LOCATION:Westbrook Training & Resource Center\, 15 Saunders Way\, Ste 700\, Westbrook\, ME\, 04092\, United States
CATEGORIES:CRMA Training,Training Calendar
ORGANIZER;CN="Training Center":MAILTO:trainingcenter@woodfords.org
END:VEVENT
BEGIN:VEVENT
DTSTART;TZID=America/New_York:20230324T083000
DTEND;TZID=America/New_York:20230324T170000
DTSTAMP:20260420T192334
CREATED:20221118T171405Z
LAST-MODIFIED:20221118T171405Z
UID:11134-1679646600-1679677200@www.woodfords.org
SUMMARY:CRMA - Day 2
DESCRIPTION:To register for our 24-hour CRMA trainings\, participants must work for an organization where they are able to complete the medication passes required for certification.
URL:https://www.woodfords.org/training-calendar/crma-day-2-6-3/
LOCATION:Westbrook Training & Resource Center\, 15 Saunders Way\, Ste 700\, Westbrook\, ME\, 04092\, United States
CATEGORIES:CRMA Training,Training Calendar
ORGANIZER;CN="Training Center":MAILTO:trainingcenter@woodfords.org
END:VEVENT
BEGIN:VEVENT
DTSTART;TZID=America/New_York:20230405T083000
DTEND;TZID=America/New_York:20230405T170000
DTSTAMP:20260420T192334
CREATED:20221118T172253Z
LAST-MODIFIED:20230104T205522Z
UID:8419-1680683400-1680714000@www.woodfords.org
SUMMARY:CRMA - Day 1
DESCRIPTION:To register for our 24-hour CRMA trainings\, participants must work for an organization where they are able to complete the medication passes required for certification.
URL:https://www.woodfords.org/training-calendar/crma-day-1-7/
LOCATION:Westbrook Training & Resource Center\, 15 Saunders Way\, Ste 700\, Westbrook\, ME\, 04092\, United States
CATEGORIES:CRMA Training,Training Calendar
ORGANIZER;CN="Training Center":MAILTO:trainingcenter@woodfords.org
END:VEVENT
BEGIN:VEVENT
DTSTART;TZID=America/New_York:20230405T083000
DTEND;TZID=America/New_York:20230405T170000
DTSTAMP:20260420T192334
CREATED:20221118T172253Z
LAST-MODIFIED:20221118T172253Z
UID:11149-1680683400-1680714000@www.woodfords.org
SUMMARY:CRMA - Day 1
DESCRIPTION:To register for our 24-hour CRMA trainings\, participants must work for an organization where they are able to complete the medication passes required for certification.
URL:https://www.woodfords.org/training-calendar/crma-day-1-7-3/
LOCATION:Westbrook Training & Resource Center\, 15 Saunders Way\, Ste 700\, Westbrook\, ME\, 04092\, United States
CATEGORIES:CRMA Training,Training Calendar
ORGANIZER;CN="Training Center":MAILTO:trainingcenter@woodfords.org
END:VEVENT
BEGIN:VEVENT
DTSTART;TZID=America/New_York:20230410T083000
DTEND;TZID=America/New_York:20230410T170000
DTSTAMP:20260420T192334
CREATED:20221118T172313Z
LAST-MODIFIED:20230104T205511Z
UID:8421-1681115400-1681146000@www.woodfords.org
SUMMARY:CRMA - Day 2
DESCRIPTION:To register for our 24-hour CRMA trainings\, participants must work for an organization where they are able to complete the medication passes required for certification.
URL:https://www.woodfords.org/training-calendar/crma-day-2-7/
LOCATION:Westbrook Training & Resource Center\, 15 Saunders Way\, Ste 700\, Westbrook\, ME\, 04092\, United States
CATEGORIES:CRMA Training,Training Calendar
ORGANIZER;CN="Training Center":MAILTO:trainingcenter@woodfords.org
END:VEVENT
BEGIN:VEVENT
DTSTART;TZID=America/New_York:20230410T083000
DTEND;TZID=America/New_York:20230410T170000
DTSTAMP:20260420T192334
CREATED:20221118T172313Z
LAST-MODIFIED:20221118T172313Z
UID:11150-1681115400-1681146000@www.woodfords.org
SUMMARY:CRMA - Day 2
DESCRIPTION:To register for our 24-hour CRMA trainings\, participants must work for an organization where they are able to complete the medication passes required for certification.
URL:https://www.woodfords.org/training-calendar/crma-day-2-7-3/
LOCATION:Westbrook Training & Resource Center\, 15 Saunders Way\, Ste 700\, Westbrook\, ME\, 04092\, United States
CATEGORIES:CRMA Training,Training Calendar
ORGANIZER;CN="Training Center":MAILTO:trainingcenter@woodfords.org
END:VEVENT
BEGIN:VEVENT
DTSTART;TZID=America/New_York:20230413T083000
DTEND;TZID=America/New_York:20230413T170000
DTSTAMP:20260420T192334
CREATED:20221118T172338Z
LAST-MODIFIED:20221118T172338Z
UID:11151-1681374600-1681405200@www.woodfords.org
SUMMARY:CRMA - Day 3
DESCRIPTION:To register for our 24-hour CRMA trainings\, participants must work for an organization where they are able to complete the medication passes required for certification.
URL:https://www.woodfords.org/training-calendar/crma-day-3-7-3/
LOCATION:Westbrook Training & Resource Center\, 15 Saunders Way\, Ste 700\, Westbrook\, ME\, 04092\, United States
CATEGORIES:CRMA Training,Training Calendar
ORGANIZER;CN="Training Center":MAILTO:trainingcenter@woodfords.org
END:VEVENT
BEGIN:VEVENT
DTSTART;TZID=America/New_York:20230504T130000
DTEND;TZID=America/New_York:20230504T160000
DTSTAMP:20260420T192334
CREATED:20230412T165904Z
LAST-MODIFIED:20230412T165904Z
UID:11178-1683205200-1683216000@www.woodfords.org
SUMMARY:CRMA Review
DESCRIPTION:The CRMA Recertification Review class is recommended for all students prior to taking the CRMA Recertification class. This class will cover filling out a MAR sheet using doctors’ orders\, a medication pass\, a demonstration of vital sign skills and a general question and answer review in preparation for the CRMA Recertification class.
URL:https://www.woodfords.org/training-calendar/crma-review-7-3/
LOCATION:Westbrook Training & Resource Center\, 15 Saunders Way\, Ste 700\, Westbrook\, ME\, 04092\, United States
CATEGORIES:CRMA Review & Recertification,CRMA Training,Training Calendar
ORGANIZER;CN="Training Center":MAILTO:trainingcenter@woodfords.org
END:VEVENT
BEGIN:VEVENT
DTSTART;TZID=America/New_York:20230511T080000
DTEND;TZID=America/New_York:20230511T170000
DTSTAMP:20260420T192334
CREATED:20230412T165928Z
LAST-MODIFIED:20230412T165928Z
UID:11179-1683792000-1683824400@www.woodfords.org
SUMMARY:CRMA Recertification
DESCRIPTION:This 8-hour class is designed for recertification of CRMA students who have completed the 24 or 40 hour CRMA course. Participants taking this course should already possess the ability to transcribe orders onto an MAR with 100% accuracy. The class will include demonstration of skills through a mock medication pass and a written exam. All students MUST bring a copy of their CRMA Bridge certificate\, or a copy of their 24 or 40 hour CRMA certificate issued by the state and a current driver’s license or identification card. The CRMA Recertification Review class is recommended for all students prior to taking the Recertification class.
URL:https://www.woodfords.org/training-calendar/crma-recertification-7-3/
LOCATION:Westbrook Training & Resource Center\, 15 Saunders Way\, Ste 700\, Westbrook\, ME\, 04092\, United States
CATEGORIES:CRMA Review & Recertification,CRMA Training,Training Calendar
ORGANIZER;CN="Training Center":MAILTO:trainingcenter@woodfords.org
END:VEVENT
BEGIN:VEVENT
DTSTART;TZID=America/New_York:20230512T080000
DTEND;TZID=America/New_York:20230512T163000
DTSTAMP:20260420T192334
CREATED:20230412T172621Z
LAST-MODIFIED:20230412T172621Z
UID:11213-1683878400-1683909000@www.woodfords.org
SUMMARY:CRMA - Day 1
DESCRIPTION:To register for our 24-hour CRMA trainings\, participants must work for an organization where they are able to complete the medication passes required for certification.
URL:https://www.woodfords.org/training-calendar/crma-day-1-10-2/
LOCATION:Westbrook Training & Resource Center\, 15 Saunders Way\, Ste 700\, Westbrook\, ME\, 04092\, United States
CATEGORIES:CRMA Training,Training Calendar
ORGANIZER;CN="Training Center":MAILTO:trainingcenter@woodfords.org
END:VEVENT
BEGIN:VEVENT
DTSTART;TZID=America/New_York:20230516T080000
DTEND;TZID=America/New_York:20230516T163000
DTSTAMP:20260420T192334
CREATED:20230412T172639Z
LAST-MODIFIED:20230412T172639Z
UID:11214-1684224000-1684254600@www.woodfords.org
SUMMARY:CRMA - Day 2
DESCRIPTION:To register for our 24-hour CRMA trainings\, participants must work for an organization where they are able to complete the medication passes required for certification.
URL:https://www.woodfords.org/training-calendar/crma-day-2-10-2/
LOCATION:Westbrook Training & Resource Center\, 15 Saunders Way\, Ste 700\, Westbrook\, ME\, 04092\, United States
CATEGORIES:CRMA Training,Training Calendar
ORGANIZER;CN="Training Center":MAILTO:trainingcenter@woodfords.org
END:VEVENT
BEGIN:VEVENT
DTSTART;TZID=America/New_York:20230522T080000
DTEND;TZID=America/New_York:20230522T163000
DTSTAMP:20260420T192334
CREATED:20230412T172700Z
LAST-MODIFIED:20230412T172700Z
UID:11215-1684742400-1684773000@www.woodfords.org
SUMMARY:CRMA - Day 3
DESCRIPTION:To register for our 24-hour CRMA trainings\, participants must work for an organization where they are able to complete the medication passes required for certification.
URL:https://www.woodfords.org/training-calendar/crma-day-3-11-2/
LOCATION:Westbrook Training & Resource Center\, 15 Saunders Way\, Ste 700\, Westbrook\, ME\, 04092\, United States
CATEGORIES:CRMA Training,Training Calendar
ORGANIZER;CN="Training Center":MAILTO:trainingcenter@woodfords.org
END:VEVENT
BEGIN:VEVENT
DTSTART;TZID=America/New_York:20230608T080000
DTEND;TZID=America/New_York:20230608T163000
DTSTAMP:20260420T192334
CREATED:20230412T172553Z
LAST-MODIFIED:20230412T172553Z
UID:11212-1686211200-1686241800@www.woodfords.org
SUMMARY:CRMA - Day 1
DESCRIPTION:To register for our 24-hour CRMA trainings\, participants must work for an organization where they are able to complete the medication passes required for certification.
URL:https://www.woodfords.org/training-calendar/crma-day-1-9-2/
LOCATION:Westbrook Training & Resource Center\, 15 Saunders Way\, Ste 700\, Westbrook\, ME\, 04092\, United States
CATEGORIES:CRMA Training,Training Calendar
ORGANIZER;CN="Training Center":MAILTO:trainingcenter@woodfords.org
END:VEVENT
BEGIN:VEVENT
DTSTART;TZID=America/New_York:20230612T080000
DTEND;TZID=America/New_York:20230612T163000
DTSTAMP:20260420T192334
CREATED:20230412T172537Z
LAST-MODIFIED:20230412T172537Z
UID:11211-1686556800-1686587400@www.woodfords.org
SUMMARY:CRMA - Day 2
DESCRIPTION:To register for our 24-hour CRMA trainings\, participants must work for an organization where they are able to complete the medication passes required for certification.
URL:https://www.woodfords.org/training-calendar/crma-day-2-9-2/
LOCATION:Westbrook Training & Resource Center\, 15 Saunders Way\, Ste 700\, Westbrook\, ME\, 04092\, United States
CATEGORIES:CRMA Training,Training Calendar
ORGANIZER;CN="Training Center":MAILTO:trainingcenter@woodfords.org
END:VEVENT
BEGIN:VEVENT
DTSTART;TZID=America/New_York:20230614T080000
DTEND;TZID=America/New_York:20230614T163000
DTSTAMP:20260420T192334
CREATED:20230412T172513Z
LAST-MODIFIED:20230412T172513Z
UID:11210-1686729600-1686760200@www.woodfords.org
SUMMARY:CRMA - Day 3
DESCRIPTION:To register for our 24-hour CRMA trainings\, participants must work for an organization where they are able to complete the medication passes required for certification.
URL:https://www.woodfords.org/training-calendar/crma-day-3-10-2/
LOCATION:Westbrook Training & Resource Center\, 15 Saunders Way\, Ste 700\, Westbrook\, ME\, 04092\, United States
CATEGORIES:CRMA Training,Training Calendar
ORGANIZER;CN="Training Center":MAILTO:trainingcenter@woodfords.org
END:VEVENT
END:VCALENDAR