BEGIN:VCALENDAR
VERSION:2.0
PRODID:-//Woodfords Family Services - ECPv6.15.20//NONSGML v1.0//EN
CALSCALE:GREGORIAN
METHOD:PUBLISH
X-WR-CALNAME:Woodfords Family Services
X-ORIGINAL-URL:https://www.woodfords.org
X-WR-CALDESC:Events for Woodfords Family Services
REFRESH-INTERVAL;VALUE=DURATION:PT1H
X-Robots-Tag:noindex
X-PUBLISHED-TTL:PT1H
BEGIN:VTIMEZONE
TZID:America/New_York
BEGIN:DAYLIGHT
TZOFFSETFROM:-0500
TZOFFSETTO:-0400
TZNAME:EDT
DTSTART:20220313T070000
END:DAYLIGHT
BEGIN:STANDARD
TZOFFSETFROM:-0400
TZOFFSETTO:-0500
TZNAME:EST
DTSTART:20221106T060000
END:STANDARD
BEGIN:DAYLIGHT
TZOFFSETFROM:-0500
TZOFFSETTO:-0400
TZNAME:EDT
DTSTART:20230312T070000
END:DAYLIGHT
BEGIN:STANDARD
TZOFFSETFROM:-0400
TZOFFSETTO:-0500
TZNAME:EST
DTSTART:20231105T060000
END:STANDARD
BEGIN:DAYLIGHT
TZOFFSETFROM:-0500
TZOFFSETTO:-0400
TZNAME:EDT
DTSTART:20240310T070000
END:DAYLIGHT
BEGIN:STANDARD
TZOFFSETFROM:-0400
TZOFFSETTO:-0500
TZNAME:EST
DTSTART:20241103T060000
END:STANDARD
END:VTIMEZONE
BEGIN:VEVENT
DTSTART;TZID=America/New_York:20230403T083000
DTEND;TZID=America/New_York:20230403T160000
DTSTAMP:20260425T160818
CREATED:20221118T172228Z
LAST-MODIFIED:20221118T172228Z
UID:8417-1680510600-1680537600@www.woodfords.org
SUMMARY:College of Direct Support Live Day 1 - MECDS 4\,5\,6\,7\,9
DESCRIPTION:This course compliments the online module content of the Maine College of Direct Support. Completion of both Day 1 and Day 2 are required for certification. Learners must be active users in the Maine College of Direct Support to register. \nAdvanced registration required. For more information\, please contact tr************@*******ds.org.
URL:https://www.woodfords.org/training-calendar/college-of-direct-support-live-day-1-mecds-45679-67/
LOCATION:Westbrook Training & Resource Center\, 15 Saunders Way\, Ste 700\, Westbrook\, ME\, 04092\, United States
CATEGORIES:College of Direct Support Live,Training Calendar
ORGANIZER;CN="Training Center":MAILTO:trainingcenter@woodfords.org
END:VEVENT
BEGIN:VEVENT
DTSTART;TZID=America/New_York:20230403T083000
DTEND;TZID=America/New_York:20230403T160000
DTSTAMP:20260425T160818
CREATED:20221118T172228Z
LAST-MODIFIED:20221118T172228Z
UID:11148-1680510600-1680537600@www.woodfords.org
SUMMARY:College of Direct Support Live Day 1 - MECDS 4\,5\,6\,7\,9
DESCRIPTION:This course compliments the online module content of the Maine College of Direct Support. Completion of both Day 1 and Day 2 are required for certification. Learners must be active users in the Maine College of Direct Support to register. \nAdvanced registration required. For more information\, please contact tr************@*******ds.org.
URL:https://www.woodfords.org/training-calendar/college-of-direct-support-live-day-1-mecds-45679-67-3/
LOCATION:Westbrook Training & Resource Center\, 15 Saunders Way\, Ste 700\, Westbrook\, ME\, 04092\, United States
CATEGORIES:College of Direct Support Live,Training Calendar
ORGANIZER;CN="Training Center":MAILTO:trainingcenter@woodfords.org
END:VEVENT
BEGIN:VEVENT
DTSTART;TZID=America/New_York:20230406T083000
DTEND;TZID=America/New_York:20230406T160000
DTSTAMP:20260425T160818
CREATED:20221118T172118Z
LAST-MODIFIED:20221118T172118Z
UID:11146-1680769800-1680796800@www.woodfords.org
SUMMARY:College of Direct Support Live Day 2 - MECDS 1\,2\,3\,8\,10\,11
DESCRIPTION:This course compliments the online module content of the Maine College of Direct Support. Completion of both Day 1 and Day 2 are required for certification. Learners must be active users in the Maine College of Direct Support to register. \nAdvanced registration required. For more information\, please contact tr************@*******ds.org.
URL:https://www.woodfords.org/training-calendar/college-of-direct-support-live-day-2-mecds-12381011-29-3/
LOCATION:Westbrook Training & Resource Center\, 15 Saunders Way\, Ste 700\, Westbrook\, ME\, 04092\, United States
CATEGORIES:College of Direct Support Live,Training Calendar
ORGANIZER;CN="Training Center":MAILTO:trainingcenter@woodfords.org
END:VEVENT
BEGIN:VEVENT
DTSTART;TZID=America/New_York:20230406T083000
DTEND;TZID=America/New_York:20230406T160000
DTSTAMP:20260425T160818
CREATED:20221118T172118Z
LAST-MODIFIED:20221118T172118Z
UID:8413-1680769800-1680796800@www.woodfords.org
SUMMARY:College of Direct Support Live Day 2 - MECDS 1\,2\,3\,8\,10\,11
DESCRIPTION:This course compliments the online module content of the Maine College of Direct Support. Completion of both Day 1 and Day 2 are required for certification. Learners must be active users in the Maine College of Direct Support to register. \nAdvanced registration required. For more information\, please contact tr************@*******ds.org.
URL:https://www.woodfords.org/training-calendar/college-of-direct-support-live-day-2-mecds-12381011-29/
LOCATION:Westbrook Training & Resource Center\, 15 Saunders Way\, Ste 700\, Westbrook\, ME\, 04092\, United States
CATEGORIES:College of Direct Support Live,Training Calendar
ORGANIZER;CN="Training Center":MAILTO:trainingcenter@woodfords.org
END:VEVENT
BEGIN:VEVENT
DTSTART;TZID=America/New_York:20230411T083000
DTEND;TZID=America/New_York:20230411T160000
DTSTAMP:20260425T160818
CREATED:20221118T172424Z
LAST-MODIFIED:20221118T172424Z
UID:8425-1681201800-1681228800@www.woodfords.org
SUMMARY:College of Direct Support Live Day 1 - MECDS 4\,5\,6\,7\,9
DESCRIPTION:This course compliments the online module content of the Maine College of Direct Support. Completion of both Day 1 and Day 2 are required for certification. Learners must be active users in the Maine College of Direct Support to register. \nAdvanced registration required. For more information\, please contact tr************@*******ds.org.
URL:https://www.woodfords.org/training-calendar/college-of-direct-support-live-day-1-mecds-45679-68/
LOCATION:Westbrook Training & Resource Center\, 15 Saunders Way\, Ste 700\, Westbrook\, ME\, 04092\, United States
CATEGORIES:College of Direct Support Live,Training Calendar
ORGANIZER;CN="Training Center":MAILTO:trainingcenter@woodfords.org
END:VEVENT
BEGIN:VEVENT
DTSTART;TZID=America/New_York:20230411T083000
DTEND;TZID=America/New_York:20230411T160000
DTSTAMP:20260425T160818
CREATED:20221118T172424Z
LAST-MODIFIED:20221118T172424Z
UID:11152-1681201800-1681228800@www.woodfords.org
SUMMARY:College of Direct Support Live Day 1 - MECDS 4\,5\,6\,7\,9
DESCRIPTION:This course compliments the online module content of the Maine College of Direct Support. Completion of both Day 1 and Day 2 are required for certification. Learners must be active users in the Maine College of Direct Support to register. \nAdvanced registration required. For more information\, please contact tr************@*******ds.org.
URL:https://www.woodfords.org/training-calendar/college-of-direct-support-live-day-1-mecds-45679-68-3/
LOCATION:Westbrook Training & Resource Center\, 15 Saunders Way\, Ste 700\, Westbrook\, ME\, 04092\, United States
CATEGORIES:College of Direct Support Live,Training Calendar
ORGANIZER;CN="Training Center":MAILTO:trainingcenter@woodfords.org
END:VEVENT
BEGIN:VEVENT
DTSTART;TZID=America/New_York:20230411T100000
DTEND;TZID=America/New_York:20230411T111500
DTSTAMP:20260425T160818
CREATED:20221118T170934Z
LAST-MODIFIED:20221118T170934Z
UID:8373-1681207200-1681211700@www.woodfords.org
SUMMARY:CDS Rights & Choice Renewal (MECDS 6)
DESCRIPTION:College of Direct Support Individual Rights & Choice renewal. Participants must be active users in the Maine College of Direct Support site. Cost: $15 for non-WFS learners. \nAdvanced registration required. For more information\, please contact tr************@*******ds.org.
URL:https://www.woodfords.org/training-calendar/cds-rights-choice-renewal-mecds-6-6/
LOCATION:Westbrook Training & Resource Center\, 15 Saunders Way\, Ste 700\, Westbrook\, ME\, 04092\, United States
CATEGORIES:College of Direct Support Live,Training Calendar
ORGANIZER;CN="Maria Romano":MAILTO:mromano@woodfords.org
END:VEVENT
BEGIN:VEVENT
DTSTART;TZID=America/New_York:20230411T100000
DTEND;TZID=America/New_York:20230411T111500
DTSTAMP:20260425T160818
CREATED:20221118T170934Z
LAST-MODIFIED:20221118T170934Z
UID:11126-1681207200-1681211700@www.woodfords.org
SUMMARY:CDS Rights & Choice Renewal (MECDS 6)
DESCRIPTION:College of Direct Support Individual Rights & Choice renewal. Participants must be active users in the Maine College of Direct Support site. Cost: $15 for non-WFS learners. \nAdvanced registration required. For more information\, please contact tr************@*******ds.org.
URL:https://www.woodfords.org/training-calendar/cds-rights-choice-renewal-mecds-6-6-3/
LOCATION:Westbrook Training & Resource Center\, 15 Saunders Way\, Ste 700\, Westbrook\, ME\, 04092\, United States
CATEGORIES:College of Direct Support Live,Training Calendar
ORGANIZER;CN="Maria Romano":MAILTO:mromano@woodfords.org
END:VEVENT
BEGIN:VEVENT
DTSTART;TZID=America/New_York:20230417T083000
DTEND;TZID=America/New_York:20230417T160000
DTSTAMP:20260425T160818
CREATED:20221118T172519Z
LAST-MODIFIED:20221118T172519Z
UID:11154-1681720200-1681747200@www.woodfords.org
SUMMARY:College of Direct Support Live Day 1 - MECDS 4\,5\,6\,7\,9
DESCRIPTION:This course compliments the online module content of the Maine College of Direct Support. Completion of both Day 1 and Day 2 are required for certification. Learners must be active users in the Maine College of Direct Support to register. \nAdvanced registration required. For more information\, please contact tr************@*******ds.org.
URL:https://www.woodfords.org/training-calendar/college-of-direct-support-live-day-1-mecds-45679-70-3/
LOCATION:Virtual – Adobe Connect
CATEGORIES:College of Direct Support Live,Training Calendar,Virtual Classes
ORGANIZER;CN="Training Center":MAILTO:trainingcenter@woodfords.org
END:VEVENT
BEGIN:VEVENT
DTSTART;TZID=America/New_York:20230417T083000
DTEND;TZID=America/New_York:20230417T160000
DTSTAMP:20260425T160818
CREATED:20221118T172519Z
LAST-MODIFIED:20221118T172519Z
UID:8429-1681720200-1681747200@www.woodfords.org
SUMMARY:College of Direct Support Live Day 1 - MECDS 4\,5\,6\,7\,9
DESCRIPTION:This course compliments the online module content of the Maine College of Direct Support. Completion of both Day 1 and Day 2 are required for certification. Learners must be active users in the Maine College of Direct Support to register. \nAdvanced registration required. For more information\, please contact tr************@*******ds.org.
URL:https://www.woodfords.org/training-calendar/college-of-direct-support-live-day-1-mecds-45679-70/
LOCATION:Virtual – Adobe Connect
CATEGORIES:College of Direct Support Live,Training Calendar,Virtual Classes
ORGANIZER;CN="Training Center":MAILTO:trainingcenter@woodfords.org
END:VEVENT
BEGIN:VEVENT
DTSTART;TZID=America/New_York:20230421T083000
DTEND;TZID=America/New_York:20230421T160000
DTSTAMP:20260425T160818
CREATED:20221118T172155Z
LAST-MODIFIED:20221118T172155Z
UID:8415-1682065800-1682092800@www.woodfords.org
SUMMARY:College of Direct Support Live Day 2 - MECDS 1\,2\,3\,8\,10\,11
DESCRIPTION:This course compliments the online module content of the Maine College of Direct Support. Completion of both Day 1 and Day 2 are required for certification. Learners must be active users in the Maine College of Direct Support to register. \nAdvanced registration required. For more information\, please contact tr************@*******ds.org.
URL:https://www.woodfords.org/training-calendar/college-of-direct-support-live-day-2-mecds-12381011-30/
LOCATION:Virtual – Adobe Connect
CATEGORIES:College of Direct Support Live,Training Calendar,Virtual Classes
ORGANIZER;CN="Training Center":MAILTO:trainingcenter@woodfords.org
END:VEVENT
BEGIN:VEVENT
DTSTART;TZID=America/New_York:20230421T083000
DTEND;TZID=America/New_York:20230421T160000
DTSTAMP:20260425T160818
CREATED:20221118T172155Z
LAST-MODIFIED:20221118T172155Z
UID:11147-1682065800-1682092800@www.woodfords.org
SUMMARY:College of Direct Support Live Day 2 - MECDS 1\,2\,3\,8\,10\,11
DESCRIPTION:This course compliments the online module content of the Maine College of Direct Support. Completion of both Day 1 and Day 2 are required for certification. Learners must be active users in the Maine College of Direct Support to register. \nAdvanced registration required. For more information\, please contact tr************@*******ds.org.
URL:https://www.woodfords.org/training-calendar/college-of-direct-support-live-day-2-mecds-12381011-30-3/
LOCATION:Virtual – Adobe Connect
CATEGORIES:College of Direct Support Live,Training Calendar,Virtual Classes
ORGANIZER;CN="Training Center":MAILTO:trainingcenter@woodfords.org
END:VEVENT
BEGIN:VEVENT
DTSTART;TZID=America/New_York:20230424T083000
DTEND;TZID=America/New_York:20230424T160000
DTSTAMP:20260425T160818
CREATED:20221118T172453Z
LAST-MODIFIED:20221118T172453Z
UID:8427-1682325000-1682352000@www.woodfords.org
SUMMARY:College of Direct Support Live Day 1 - MECDS 4\,5\,6\,7\,9
DESCRIPTION:This course compliments the online module content of the Maine College of Direct Support. Completion of both Day 1 and Day 2 are required for certification. Learners must be active users in the Maine College of Direct Support to register. \nAdvanced registration required. For more information\, please contact tr************@*******ds.org.
URL:https://www.woodfords.org/training-calendar/college-of-direct-support-live-day-1-mecds-45679-69/
LOCATION:Westbrook Training & Resource Center\, 15 Saunders Way\, Ste 700\, Westbrook\, ME\, 04092\, United States
CATEGORIES:College of Direct Support Live,Training Calendar
ORGANIZER;CN="Training Center":MAILTO:trainingcenter@woodfords.org
END:VEVENT
BEGIN:VEVENT
DTSTART;TZID=America/New_York:20230424T083000
DTEND;TZID=America/New_York:20230424T160000
DTSTAMP:20260425T160818
CREATED:20221118T172453Z
LAST-MODIFIED:20221118T172453Z
UID:11153-1682325000-1682352000@www.woodfords.org
SUMMARY:College of Direct Support Live Day 1 - MECDS 4\,5\,6\,7\,9
DESCRIPTION:This course compliments the online module content of the Maine College of Direct Support. Completion of both Day 1 and Day 2 are required for certification. Learners must be active users in the Maine College of Direct Support to register. \nAdvanced registration required. For more information\, please contact tr************@*******ds.org.
URL:https://www.woodfords.org/training-calendar/college-of-direct-support-live-day-1-mecds-45679-69-3/
LOCATION:Westbrook Training & Resource Center\, 15 Saunders Way\, Ste 700\, Westbrook\, ME\, 04092\, United States
CATEGORIES:College of Direct Support Live,Training Calendar
ORGANIZER;CN="Training Center":MAILTO:trainingcenter@woodfords.org
END:VEVENT
END:VCALENDAR