BEGIN:VCALENDAR
VERSION:2.0
PRODID:-//Woodfords Family Services - ECPv6.15.20//NONSGML v1.0//EN
CALSCALE:GREGORIAN
METHOD:PUBLISH
X-WR-CALNAME:Woodfords Family Services
X-ORIGINAL-URL:https://www.woodfords.org
X-WR-CALDESC:Events for Woodfords Family Services
REFRESH-INTERVAL;VALUE=DURATION:PT1H
X-Robots-Tag:noindex
X-PUBLISHED-TTL:PT1H
BEGIN:VTIMEZONE
TZID:America/New_York
BEGIN:DAYLIGHT
TZOFFSETFROM:-0500
TZOFFSETTO:-0400
TZNAME:EDT
DTSTART:20200308T070000
END:DAYLIGHT
BEGIN:STANDARD
TZOFFSETFROM:-0400
TZOFFSETTO:-0500
TZNAME:EST
DTSTART:20201101T060000
END:STANDARD
BEGIN:DAYLIGHT
TZOFFSETFROM:-0500
TZOFFSETTO:-0400
TZNAME:EDT
DTSTART:20210314T070000
END:DAYLIGHT
BEGIN:STANDARD
TZOFFSETFROM:-0400
TZOFFSETTO:-0500
TZNAME:EST
DTSTART:20211107T060000
END:STANDARD
BEGIN:DAYLIGHT
TZOFFSETFROM:-0500
TZOFFSETTO:-0400
TZNAME:EDT
DTSTART:20220313T070000
END:DAYLIGHT
BEGIN:STANDARD
TZOFFSETFROM:-0400
TZOFFSETTO:-0500
TZNAME:EST
DTSTART:20221106T060000
END:STANDARD
END:VTIMEZONE
BEGIN:VEVENT
DTSTART;TZID=America/New_York:20210607T083000
DTEND;TZID=America/New_York:20210607T160000
DTSTAMP:20260421T234819
CREATED:20210325T174537Z
LAST-MODIFIED:20210325T174537Z
UID:10886-1623054600-1623081600@www.woodfords.org
SUMMARY:College of Direct Support Live Day 1 - MECDS 4\,5\,6\,7\,9
DESCRIPTION:This course compliments the online module content of the Maine College of Direct Support. Completion of both Day 1 and Day 2 are required for certification. \nFor more information or to sign up for the College of Direct Support Live trainings\, please contact Maria Romano\, Training Coordinator
URL:https://www.woodfords.org/training-calendar/college-of-direct-support-live-day-1-mecds-45679-6-3/
LOCATION:Virtual – Adobe Connect
CATEGORIES:College of Direct Support Live,Training Calendar
ORGANIZER;CN="Training Center":MAILTO:trainingcenter@woodfords.org
END:VEVENT
BEGIN:VEVENT
DTSTART;TZID=America/New_York:20210607T083000
DTEND;TZID=America/New_York:20210607T160000
DTSTAMP:20260421T234819
CREATED:20210325T174537Z
LAST-MODIFIED:20210325T174817Z
UID:7122-1623054600-1623081600@www.woodfords.org
SUMMARY:College of Direct Support Live Day 1 - MECDS 4\,5\,6\,7\,9
DESCRIPTION:This course compliments the online module content of the Maine College of Direct Support. Completion of both Day 1 and Day 2 are required for certification. \nFor more information or to sign up for the College of Direct Support Live trainings\, please contact Maria Romano\, Training Coordinator
URL:https://www.woodfords.org/training-calendar/college-of-direct-support-live-day-1-mecds-45679-6/
LOCATION:Virtual – Adobe Connect
CATEGORIES:College of Direct Support Live,Training Calendar
ORGANIZER;CN="Training Center":MAILTO:trainingcenter@woodfords.org
END:VEVENT
BEGIN:VEVENT
DTSTART;TZID=America/New_York:20210619T083000
DTEND;TZID=America/New_York:20210619T160000
DTSTAMP:20260421T234819
CREATED:20210325T174615Z
LAST-MODIFIED:20210325T174615Z
UID:10887-1624091400-1624118400@www.woodfords.org
SUMMARY:College of Direct Support Live Day 1 - MECDS 4\,5\,6\,7\,9
DESCRIPTION:This course compliments the online module content of the Maine College of Direct Support. Completion of both Day 1 and Day 2 are required for certification. \nFor more information or to sign up for the College of Direct Support Live trainings\, please contact Maria Romano\, Training Coordinator
URL:https://www.woodfords.org/training-calendar/college-of-direct-support-live-day-1-mecds-45679-7-3/
LOCATION:Virtual – Adobe Connect
CATEGORIES:College of Direct Support Live,Training Calendar
ORGANIZER;CN="Training Center":MAILTO:trainingcenter@woodfords.org
END:VEVENT
BEGIN:VEVENT
DTSTART;TZID=America/New_York:20210619T083000
DTEND;TZID=America/New_York:20210619T160000
DTSTAMP:20260421T234819
CREATED:20210325T174615Z
LAST-MODIFIED:20210325T174750Z
UID:7124-1624091400-1624118400@www.woodfords.org
SUMMARY:College of Direct Support Live Day 1 - MECDS 4\,5\,6\,7\,9
DESCRIPTION:This course compliments the online module content of the Maine College of Direct Support. Completion of both Day 1 and Day 2 are required for certification. \nFor more information or to sign up for the College of Direct Support Live trainings\, please contact Maria Romano\, Training Coordinator
URL:https://www.woodfords.org/training-calendar/college-of-direct-support-live-day-1-mecds-45679-7/
LOCATION:Virtual – Adobe Connect
CATEGORIES:College of Direct Support Live,Training Calendar
ORGANIZER;CN="Training Center":MAILTO:trainingcenter@woodfords.org
END:VEVENT
BEGIN:VEVENT
DTSTART;TZID=America/New_York:20210626T083000
DTEND;TZID=America/New_York:20210626T160000
DTSTAMP:20260421T234819
CREATED:20210325T174454Z
LAST-MODIFIED:20210325T174454Z
UID:7120-1624696200-1624723200@www.woodfords.org
SUMMARY:College of Direct Support Live Day 2 - MECDS 1\,2\,3\,8\,10\,11
DESCRIPTION:This course compliments the online module content of the Maine College of Direct Support. Completion of both Day 1 and Day 2 are required for certification. \nFor more information or to sign up for the College of Direct Support Live trainings\, please contact Maria Romano\, Training Coordinator
URL:https://www.woodfords.org/training-calendar/college-of-direct-support-live-day-2-mecds-12381011-5/
LOCATION:Virtual – Adobe Connect
CATEGORIES:College of Direct Support Live,Training Calendar
ORGANIZER;CN="Training Center":MAILTO:trainingcenter@woodfords.org
END:VEVENT
BEGIN:VEVENT
DTSTART;TZID=America/New_York:20210626T083000
DTEND;TZID=America/New_York:20210626T160000
DTSTAMP:20260421T234819
CREATED:20210325T174454Z
LAST-MODIFIED:20210325T174454Z
UID:10885-1624696200-1624723200@www.woodfords.org
SUMMARY:College of Direct Support Live Day 2 - MECDS 1\,2\,3\,8\,10\,11
DESCRIPTION:This course compliments the online module content of the Maine College of Direct Support. Completion of both Day 1 and Day 2 are required for certification. \nFor more information or to sign up for the College of Direct Support Live trainings\, please contact Maria Romano\, Training Coordinator
URL:https://www.woodfords.org/training-calendar/college-of-direct-support-live-day-2-mecds-12381011-5-3/
LOCATION:Virtual – Adobe Connect
CATEGORIES:College of Direct Support Live,Training Calendar
ORGANIZER;CN="Training Center":MAILTO:trainingcenter@woodfords.org
END:VEVENT
BEGIN:VEVENT
DTSTART;TZID=America/New_York:20210629T083000
DTEND;TZID=America/New_York:20210629T160000
DTSTAMP:20260421T234819
CREATED:20210325T174702Z
LAST-MODIFIED:20210325T174702Z
UID:10888-1624955400-1624982400@www.woodfords.org
SUMMARY:College of Direct Support Live Day 1 - MECDS 4\,5\,6\,7\,9
DESCRIPTION:This course compliments the online module content of the Maine College of Direct Support. Completion of both Day 1 and Day 2 are required for certification. \nFor more information or to sign up for the College of Direct Support Live trainings\, please contact Maria Romano\, Training Coordinator
URL:https://www.woodfords.org/training-calendar/college-of-direct-support-live-day-1-mecds-45679-8-3/
LOCATION:Virtual – Adobe Connect
CATEGORIES:College of Direct Support Live,Training Calendar
ORGANIZER;CN="Training Center":MAILTO:trainingcenter@woodfords.org
END:VEVENT
BEGIN:VEVENT
DTSTART;TZID=America/New_York:20210629T083000
DTEND;TZID=America/New_York:20210629T160000
DTSTAMP:20260421T234819
CREATED:20210325T174702Z
LAST-MODIFIED:20210325T174730Z
UID:7126-1624955400-1624982400@www.woodfords.org
SUMMARY:College of Direct Support Live Day 1 - MECDS 4\,5\,6\,7\,9
DESCRIPTION:This course compliments the online module content of the Maine College of Direct Support. Completion of both Day 1 and Day 2 are required for certification. \nFor more information or to sign up for the College of Direct Support Live trainings\, please contact Maria Romano\, Training Coordinator
URL:https://www.woodfords.org/training-calendar/college-of-direct-support-live-day-1-mecds-45679-8/
LOCATION:Virtual – Adobe Connect
CATEGORIES:College of Direct Support Live,Training Calendar
ORGANIZER;CN="Training Center":MAILTO:trainingcenter@woodfords.org
END:VEVENT
END:VCALENDAR