BEGIN:VCALENDAR
VERSION:2.0
PRODID:-//Woodfords Family Services - ECPv6.15.20//NONSGML v1.0//EN
CALSCALE:GREGORIAN
METHOD:PUBLISH
X-ORIGINAL-URL:https://www.woodfords.org
X-WR-CALDESC:Events for Woodfords Family Services
REFRESH-INTERVAL;VALUE=DURATION:PT1H
X-Robots-Tag:noindex
X-PUBLISHED-TTL:PT1H
BEGIN:VTIMEZONE
TZID:America/New_York
BEGIN:DAYLIGHT
TZOFFSETFROM:-0500
TZOFFSETTO:-0400
TZNAME:EDT
DTSTART:20200308T070000
END:DAYLIGHT
BEGIN:STANDARD
TZOFFSETFROM:-0400
TZOFFSETTO:-0500
TZNAME:EST
DTSTART:20201101T060000
END:STANDARD
BEGIN:DAYLIGHT
TZOFFSETFROM:-0500
TZOFFSETTO:-0400
TZNAME:EDT
DTSTART:20210314T070000
END:DAYLIGHT
BEGIN:STANDARD
TZOFFSETFROM:-0400
TZOFFSETTO:-0500
TZNAME:EST
DTSTART:20211107T060000
END:STANDARD
BEGIN:DAYLIGHT
TZOFFSETFROM:-0500
TZOFFSETTO:-0400
TZNAME:EDT
DTSTART:20220313T070000
END:DAYLIGHT
BEGIN:STANDARD
TZOFFSETFROM:-0400
TZOFFSETTO:-0500
TZNAME:EST
DTSTART:20221106T060000
END:STANDARD
END:VTIMEZONE
BEGIN:VEVENT
DTSTART;TZID=America/New_York:20210506T083000
DTEND;TZID=America/New_York:20210506T160000
DTSTAMP:20260423T155149
CREATED:20210325T174252Z
LAST-MODIFIED:20210325T174252Z
UID:10883-1620289800-1620316800@www.woodfords.org
SUMMARY:College of Direct Support Live Day 2 - MECDS 1\,2\,3\,8\,10\,11
DESCRIPTION:This course compliments the online module content of the Maine College of Direct Support. Completion of both Day 1 and Day 2 are required for certification. \nFor more information or to sign up for the College of Direct Support Live trainings\, please contact Maria Romano\, Training Coordinator
URL:https://www.woodfords.org/training-calendar/college-of-direct-support-live-day-2-mecds-12381011-3-3/
LOCATION:Virtual – Adobe Connect
CATEGORIES:College of Direct Support Live,Training Calendar
ORGANIZER;CN="Training Center":MAILTO:trainingcenter@woodfords.org
END:VEVENT
BEGIN:VEVENT
DTSTART;TZID=America/New_York:20210506T083000
DTEND;TZID=America/New_York:20210506T160000
DTSTAMP:20260423T155149
CREATED:20210325T174252Z
LAST-MODIFIED:20210325T174252Z
UID:7116-1620289800-1620316800@www.woodfords.org
SUMMARY:College of Direct Support Live Day 2 - MECDS 1\,2\,3\,8\,10\,11
DESCRIPTION:This course compliments the online module content of the Maine College of Direct Support. Completion of both Day 1 and Day 2 are required for certification. \nFor more information or to sign up for the College of Direct Support Live trainings\, please contact Maria Romano\, Training Coordinator
URL:https://www.woodfords.org/training-calendar/college-of-direct-support-live-day-2-mecds-12381011-3/
LOCATION:Virtual – Adobe Connect
CATEGORIES:College of Direct Support Live,Training Calendar
ORGANIZER;CN="Training Center":MAILTO:trainingcenter@woodfords.org
END:VEVENT
BEGIN:VEVENT
DTSTART;TZID=America/New_York:20210510T083000
DTEND;TZID=America/New_York:20210510T160000
DTSTAMP:20260423T155149
CREATED:20210325T174026Z
LAST-MODIFIED:20210325T174927Z
UID:7112-1620635400-1620662400@www.woodfords.org
SUMMARY:College of Direct Support Live Day 1 - MECDS 4\,5\,6\,7\,9
DESCRIPTION:This course compliments the online module content of the Maine College of Direct Support. Completion of both Day 1 and Day 2 are required for certification. \nFor more information or to sign up for the College of Direct Support Live trainings\, please contact Maria Romano\, Training Coordinator
URL:https://www.woodfords.org/training-calendar/college-of-direct-support-live-day-1-mecds-45679-4/
LOCATION:Virtual – Adobe Connect
CATEGORIES:College of Direct Support Live,Training Calendar
ORGANIZER;CN="Training Center":MAILTO:trainingcenter@woodfords.org
END:VEVENT
BEGIN:VEVENT
DTSTART;TZID=America/New_York:20210510T083000
DTEND;TZID=America/New_York:20210510T160000
DTSTAMP:20260423T155149
CREATED:20210325T174026Z
LAST-MODIFIED:20210325T174026Z
UID:10881-1620635400-1620662400@www.woodfords.org
SUMMARY:College of Direct Support Live Day 1 - MECDS 4\,5\,6\,7\,9
DESCRIPTION:This course compliments the online module content of the Maine College of Direct Support. Completion of both Day 1 and Day 2 are required for certification. \nFor more information or to sign up for the College of Direct Support Live trainings\, please contact Maria Romano\, Training Coordinator
URL:https://www.woodfords.org/training-calendar/college-of-direct-support-live-day-1-mecds-45679-4-3/
LOCATION:Virtual – Adobe Connect
CATEGORIES:College of Direct Support Live,Training Calendar
ORGANIZER;CN="Training Center":MAILTO:trainingcenter@woodfords.org
END:VEVENT
BEGIN:VEVENT
DTSTART;TZID=America/New_York:20210524T083000
DTEND;TZID=America/New_York:20210524T160000
DTSTAMP:20260423T155149
CREATED:20210325T174154Z
LAST-MODIFIED:20210325T174154Z
UID:10882-1621845000-1621872000@www.woodfords.org
SUMMARY:College of Direct Support Live Day 1 - MECDS 4\,5\,6\,7\,9
DESCRIPTION:This course compliments the online module content of the Maine College of Direct Support. Completion of both Day 1 and Day 2 are required for certification. \nFor more information or to sign up for the College of Direct Support Live trainings\, please contact Maria Romano\, Training Coordinator
URL:https://www.woodfords.org/training-calendar/college-of-direct-support-live-day-1-mecds-45679-5-3/
LOCATION:Virtual – Adobe Connect
CATEGORIES:College of Direct Support Live,Training Calendar
ORGANIZER;CN="Training Center":MAILTO:trainingcenter@woodfords.org
END:VEVENT
BEGIN:VEVENT
DTSTART;TZID=America/New_York:20210524T083000
DTEND;TZID=America/New_York:20210524T160000
DTSTAMP:20260423T155149
CREATED:20210325T174154Z
LAST-MODIFIED:20210325T174837Z
UID:7114-1621845000-1621872000@www.woodfords.org
SUMMARY:College of Direct Support Live Day 1 - MECDS 4\,5\,6\,7\,9
DESCRIPTION:This course compliments the online module content of the Maine College of Direct Support. Completion of both Day 1 and Day 2 are required for certification. \nFor more information or to sign up for the College of Direct Support Live trainings\, please contact Maria Romano\, Training Coordinator
URL:https://www.woodfords.org/training-calendar/college-of-direct-support-live-day-1-mecds-45679-5/
LOCATION:Virtual – Adobe Connect
CATEGORIES:College of Direct Support Live,Training Calendar
ORGANIZER;CN="Training Center":MAILTO:trainingcenter@woodfords.org
END:VEVENT
BEGIN:VEVENT
DTSTART;TZID=America/New_York:20210525T083000
DTEND;TZID=America/New_York:20210525T160000
DTSTAMP:20260423T155149
CREATED:20210325T174335Z
LAST-MODIFIED:20210325T174335Z
UID:10884-1621931400-1621958400@www.woodfords.org
SUMMARY:College of Direct Support Live Day 2 - MECDS 1\,2\,3\,8\,10\,11
DESCRIPTION:This course compliments the online module content of the Maine College of Direct Support. Completion of both Day 1 and Day 2 are required for certification. \nFor more information or to sign up for the College of Direct Support Live trainings\, please contact Maria Romano\, Training Coordinator
URL:https://www.woodfords.org/training-calendar/college-of-direct-support-live-day-2-mecds-12381011-4-3/
LOCATION:Virtual – Adobe Connect
CATEGORIES:College of Direct Support Live,Training Calendar
ORGANIZER;CN="Training Center":MAILTO:trainingcenter@woodfords.org
END:VEVENT
BEGIN:VEVENT
DTSTART;TZID=America/New_York:20210525T083000
DTEND;TZID=America/New_York:20210525T160000
DTSTAMP:20260423T155149
CREATED:20210325T174335Z
LAST-MODIFIED:20210325T174335Z
UID:7118-1621931400-1621958400@www.woodfords.org
SUMMARY:College of Direct Support Live Day 2 - MECDS 1\,2\,3\,8\,10\,11
DESCRIPTION:This course compliments the online module content of the Maine College of Direct Support. Completion of both Day 1 and Day 2 are required for certification. \nFor more information or to sign up for the College of Direct Support Live trainings\, please contact Maria Romano\, Training Coordinator
URL:https://www.woodfords.org/training-calendar/college-of-direct-support-live-day-2-mecds-12381011-4/
LOCATION:Virtual – Adobe Connect
CATEGORIES:College of Direct Support Live,Training Calendar
ORGANIZER;CN="Training Center":MAILTO:trainingcenter@woodfords.org
END:VEVENT
END:VCALENDAR