BEGIN:VCALENDAR
VERSION:2.0
PRODID:-//Woodfords Family Services - ECPv6.15.20//NONSGML v1.0//EN
CALSCALE:GREGORIAN
METHOD:PUBLISH
X-WR-CALNAME:Woodfords Family Services
X-ORIGINAL-URL:https://www.woodfords.org
X-WR-CALDESC:Events for Woodfords Family Services
REFRESH-INTERVAL;VALUE=DURATION:PT1H
X-Robots-Tag:noindex
X-PUBLISHED-TTL:PT1H
BEGIN:VTIMEZONE
TZID:America/New_York
BEGIN:DAYLIGHT
TZOFFSETFROM:-0500
TZOFFSETTO:-0400
TZNAME:EDT
DTSTART:20230312T070000
END:DAYLIGHT
BEGIN:STANDARD
TZOFFSETFROM:-0400
TZOFFSETTO:-0500
TZNAME:EST
DTSTART:20231105T060000
END:STANDARD
BEGIN:DAYLIGHT
TZOFFSETFROM:-0500
TZOFFSETTO:-0400
TZNAME:EDT
DTSTART:20240310T070000
END:DAYLIGHT
BEGIN:STANDARD
TZOFFSETFROM:-0400
TZOFFSETTO:-0500
TZNAME:EST
DTSTART:20241103T060000
END:STANDARD
BEGIN:DAYLIGHT
TZOFFSETFROM:-0500
TZOFFSETTO:-0400
TZNAME:EDT
DTSTART:20250309T070000
END:DAYLIGHT
BEGIN:STANDARD
TZOFFSETFROM:-0400
TZOFFSETTO:-0500
TZNAME:EST
DTSTART:20251102T060000
END:STANDARD
END:VTIMEZONE
BEGIN:VTIMEZONE
TZID:America/New_York
BEGIN:DAYLIGHT
TZOFFSETFROM:-0500
TZOFFSETTO:-0400
TZNAME:EDT
DTSTART:20230312T070000
END:DAYLIGHT
BEGIN:STANDARD
TZOFFSETFROM:-0400
TZOFFSETTO:-0500
TZNAME:EST
DTSTART:20231105T060000
END:STANDARD
BEGIN:DAYLIGHT
TZOFFSETFROM:-0500
TZOFFSETTO:-0400
TZNAME:EDT
DTSTART:20240310T070000
END:DAYLIGHT
BEGIN:STANDARD
TZOFFSETFROM:-0400
TZOFFSETTO:-0500
TZNAME:EST
DTSTART:20241103T060000
END:STANDARD
BEGIN:DAYLIGHT
TZOFFSETFROM:-0500
TZOFFSETTO:-0400
TZNAME:EDT
DTSTART:20250309T070000
END:DAYLIGHT
BEGIN:STANDARD
TZOFFSETFROM:-0400
TZOFFSETTO:-0500
TZNAME:EST
DTSTART:20251102T060000
END:STANDARD
END:VTIMEZONE
BEGIN:VEVENT
DTSTART;TZID=America/New_York:20240112T080000
DTEND;TZID=America/New_York:20240112T163000
DTSTAMP:20260420T183524
CREATED:20231207T220825Z
LAST-MODIFIED:20231207T220825Z
UID:11638-1705046400-1705077000@www.woodfords.org
SUMMARY:BHP In-Person Live Day
DESCRIPTION:Training Provided by: Woodfords Family Services \nCertified Instructor: Elizabeth Mazzarese & Elodie Chancelier \nAddress: Woodfords’ Training & Resource Center\, 15 Saunders Way\, Suite 700\, Westbrook\, ME 04092 \nCost: No charge to Provider Agency/School staff providing MaineCare reimbursed services. Additionally\, now through 6/30/24\, the $100 course fee is waived for independent students who are interested in becoming a Certified BHP. (no cost info on entry) \nContact: Shannon Berger\, bh*@*******ds.org\, 207-887-5217 \nCourse Description: This is an in-person training session. Participants must successfully complete all 12 online modules no later than 3 days prior to the Live Day session in order to be granted admittance. Completion of an OSHA-compliant Bloodborne pathogens training and current Adult & Child CPR and First Aid certification are also required for BHP certification. Please contact bh*@*******ds.org for more information.
URL:https://www.woodfords.org/training-calendar/bhp-in-person-live-day/
LOCATION:Westbrook Training & Resource Center\, 15 Saunders Way\, Ste 700\, Westbrook\, ME\, 04092\, United States
CATEGORIES:Blended BHP Live Day Calendar
END:VEVENT
BEGIN:VEVENT
DTSTART;TZID=America/New_York:20240112T080000
DTEND;TZID=America/New_York:20240112T163000
DTSTAMP:20260420T183524
CREATED:20240109T162315Z
LAST-MODIFIED:20240109T162315Z
UID:12129-1705046400-1705077000@www.woodfords.org
SUMMARY:CRMA - Day 2
DESCRIPTION:To register for our 24-hour CRMA trainings\, participants must work for an organization where they are able to complete the medication passes required for certification.
URL:https://www.woodfords.org/training-calendar/crma-day-2-12/
LOCATION:Westbrook Training & Resource Center\, 15 Saunders Way\, Ste 700\, Westbrook\, ME\, 04092\, United States
CATEGORIES:CRMA Training,Training Calendar
ORGANIZER;CN="Training Center":MAILTO:trainingcenter@woodfords.org
END:VEVENT
END:VCALENDAR