BEGIN:VCALENDAR
VERSION:2.0
PRODID:-//Woodfords Family Services - ECPv6.15.20//NONSGML v1.0//EN
CALSCALE:GREGORIAN
METHOD:PUBLISH
X-WR-CALNAME:Woodfords Family Services
X-ORIGINAL-URL:https://www.woodfords.org
X-WR-CALDESC:Events for Woodfords Family Services
REFRESH-INTERVAL;VALUE=DURATION:PT1H
X-Robots-Tag:noindex
X-PUBLISHED-TTL:PT1H
BEGIN:VTIMEZONE
TZID:America/New_York
BEGIN:DAYLIGHT
TZOFFSETFROM:-0500
TZOFFSETTO:-0400
TZNAME:EDT
DTSTART:20220313T070000
END:DAYLIGHT
BEGIN:STANDARD
TZOFFSETFROM:-0400
TZOFFSETTO:-0500
TZNAME:EST
DTSTART:20221106T060000
END:STANDARD
BEGIN:DAYLIGHT
TZOFFSETFROM:-0500
TZOFFSETTO:-0400
TZNAME:EDT
DTSTART:20230312T070000
END:DAYLIGHT
BEGIN:STANDARD
TZOFFSETFROM:-0400
TZOFFSETTO:-0500
TZNAME:EST
DTSTART:20231105T060000
END:STANDARD
BEGIN:DAYLIGHT
TZOFFSETFROM:-0500
TZOFFSETTO:-0400
TZNAME:EDT
DTSTART:20240310T070000
END:DAYLIGHT
BEGIN:STANDARD
TZOFFSETFROM:-0400
TZOFFSETTO:-0500
TZNAME:EST
DTSTART:20241103T060000
END:STANDARD
BEGIN:DAYLIGHT
TZOFFSETFROM:-0500
TZOFFSETTO:-0400
TZNAME:EDT
DTSTART:20250309T070000
END:DAYLIGHT
BEGIN:STANDARD
TZOFFSETFROM:-0400
TZOFFSETTO:-0500
TZNAME:EST
DTSTART:20251102T060000
END:STANDARD
END:VTIMEZONE
BEGIN:VTIMEZONE
TZID:America/New_York
BEGIN:DAYLIGHT
TZOFFSETFROM:-0500
TZOFFSETTO:-0400
TZNAME:EDT
DTSTART:20220313T070000
END:DAYLIGHT
BEGIN:STANDARD
TZOFFSETFROM:-0400
TZOFFSETTO:-0500
TZNAME:EST
DTSTART:20221106T060000
END:STANDARD
BEGIN:DAYLIGHT
TZOFFSETFROM:-0500
TZOFFSETTO:-0400
TZNAME:EDT
DTSTART:20230312T070000
END:DAYLIGHT
BEGIN:STANDARD
TZOFFSETFROM:-0400
TZOFFSETTO:-0500
TZNAME:EST
DTSTART:20231105T060000
END:STANDARD
BEGIN:DAYLIGHT
TZOFFSETFROM:-0500
TZOFFSETTO:-0400
TZNAME:EDT
DTSTART:20240310T070000
END:DAYLIGHT
BEGIN:STANDARD
TZOFFSETFROM:-0400
TZOFFSETTO:-0500
TZNAME:EST
DTSTART:20241103T060000
END:STANDARD
END:VTIMEZONE
BEGIN:VEVENT
DTSTART;TZID=America/New_York:20231129T083000
DTEND;TZID=America/New_York:20231129T123000
DTSTAMP:20260420T003119
CREATED:20230825T183724Z
LAST-MODIFIED:20230825T183724Z
UID:11262-1701246600-1701261000@www.woodfords.org
SUMMARY:Understanding Trauma
DESCRIPTION:This training will provide parents\, foster parents\, care providers and professionals with an understanding of trauma and its potential effects on children\, as well as the coping strategies often used by children who have experienced trauma. \nAlso discussed will be the importance of self-care\, developing strategies for preventing burnout and secondary traumatic stress\, as well as ways to build resilience in children and families. \nThis training is free to families currently receiving services through Woodfords; for all others the fee is $25. \nAdvanced registration required.  https://www.woodfords.org/wp-content/uploads/2023/08/Fall-2023-Registration-Packet.pdf
URL:https://www.woodfords.org/training-calendar/understanding-trauma-7-2/
LOCATION:Virtual – Adobe Connect
CATEGORIES:Community,Parent Trainings,Training Calendar,Virtual Classes
ORGANIZER;CN="Training Center":MAILTO:trainingcenter@woodfords.org
END:VEVENT
BEGIN:VEVENT
DTSTART;TZID=America/New_York:20241101T083000
DTEND;TZID=America/New_York:20241101T083000
DTSTAMP:20260420T003119
CREATED:20240807T142406Z
LAST-MODIFIED:20240807T142406Z
UID:13112-1730449800-1730449800@www.woodfords.org
SUMMARY:Understanding Trauma
DESCRIPTION:This training will provide parents\, foster parents\, care providers and professionals with an understanding of trauma and its potential effects on children\, as well as the coping strategies often used by children who have experienced trauma. \nAlso discussed will be the importance of self-care\, developing strategies for preventing burnout and secondary traumatic stress\, as well as ways to build resilience in children and families. \nThis training is free to families currently receiving services through Woodfords; for all others the fee is $25. \nAdvanced registration required.
URL:https://www.woodfords.org/training-calendar/understanding-trauma-8/
LOCATION:Virtual – Adobe Connect
CATEGORIES:Community,Parent Trainings,Training Calendar,Virtual Classes
ORGANIZER;CN="Training Center":MAILTO:trainingcenter@woodfords.org
END:VEVENT
BEGIN:VEVENT
DTSTART;TZID=America/New_York:20231129T083000
DTEND;TZID=America/New_York:20231129T163000
DTSTAMP:20260420T003119
CREATED:20230816T171244Z
LAST-MODIFIED:20230816T171244Z
UID:10467-1701246600-1701275400@www.woodfords.org
SUMMARY:Live Day Training led by Audra Warren & Tim Smith
DESCRIPTION:Participants must successfully complete all 12 online modules no later than 3 days prior to the Live Day session in order to be granted admittance. Completion of an OSHA-compliant Bloodborne pathogens training and current Adult & Child CPR and First Aid certification are also required for BHP certification. Please contact bh*@*******ds.org for more information.
URL:https://www.woodfords.org/training-calendar/live-day-training-led-by-audra-warren-tim-smith/
LOCATION:Westbrook Training & Resource Center\, 15 Saunders Way\, Ste 700\, Westbrook\, ME\, 04092\, United States
CATEGORIES:Blended BHP Live Day Calendar
ORGANIZER;CN="Shannon Berger":MAILTO:bhp@woodfords.org
END:VEVENT
BEGIN:VEVENT
DTSTART;TZID=America/New_York:20231129T133000
DTEND;TZID=America/New_York:20231129T163000
DTSTAMP:20260420T003119
CREATED:20230825T184057Z
LAST-MODIFIED:20230825T184057Z
UID:9112-1701264600-1701275400@www.woodfords.org
SUMMARY:Sexuality and Personal Boundaries - Parents
DESCRIPTION:Discussing sexuality and personal boundaries with children can be difficult for even the most confident parents. It can be even more challenging to have these conversations with children and adolescents with developmental disabilities. However\, because research shows that children with developmental disabilities are at a higher risk of being sexually abused or exploited\, it is important that parents educate their children about their bodies\, how to set personal boundaries and how to stay safe. This three hour training will provide participants with some basic tools and language to facilitate healthy discussions and education around sexuality and boundaries. \nThis training is free to families currently receiving services through Woodfords; for all others the fee is $25. \nAdvanced registration required. Please find additional information and registration materials here: https://www.woodfords.org/wp-content/uploads/2023/08/Fall-2023-Registration-Packet.pdf Series
URL:https://www.woodfords.org/training-calendar/sexuality-and-personal-boundaries-parents-7-2/
LOCATION:Virtual – Adobe Connect
CATEGORIES:Community,Parent Trainings,Training Calendar,Virtual Classes
ORGANIZER;CN="Training Center":MAILTO:trainingcenter@woodfords.org
END:VEVENT
BEGIN:VEVENT
DTSTART;TZID=America/New_York:20241101T130000
DTEND;TZID=America/New_York:20241101T130000
DTSTAMP:20260420T003119
CREATED:20240807T142504Z
LAST-MODIFIED:20240807T142504Z
UID:13114-1730466000-1730466000@www.woodfords.org
SUMMARY:Sexuality and Personal Boundaries for Parents/Caregivers
DESCRIPTION:Discussing sexuality and personal boundaries with children can be difficult for even the most confident parents. It can be even more challenging to have these conversations with children and adolescents with developmental disabilities. However\, because research shows that children with developmental disabilities are at a higher risk of being sexually abused or exploited\, it is important that parents educate their children about their bodies\, how to set personal boundaries and how to stay safe. This three hour training will provide participants with some basic tools and language to facilitate healthy discussions and education around sexuality and boundaries. \nThis training is free to families currently receiving services through Woodfords; for all others the fee is $25. \n 
URL:https://www.woodfords.org/training-calendar/sexuality-and-personal-boundaries-for-parents-caregivers/
LOCATION:Virtual – Adobe Connect
CATEGORIES:Community,Parent Trainings,Training Calendar,Virtual Classes
ORGANIZER;CN="Training Center":MAILTO:trainingcenter@woodfords.org
END:VEVENT
END:VCALENDAR