BEGIN:VCALENDAR
VERSION:2.0
PRODID:-//Woodfords Family Services - ECPv6.15.20//NONSGML v1.0//EN
CALSCALE:GREGORIAN
METHOD:PUBLISH
X-WR-CALNAME:Woodfords Family Services
X-ORIGINAL-URL:https://www.woodfords.org
X-WR-CALDESC:Events for Woodfords Family Services
REFRESH-INTERVAL;VALUE=DURATION:PT1H
X-Robots-Tag:noindex
X-PUBLISHED-TTL:PT1H
BEGIN:VTIMEZONE
TZID:America/New_York
BEGIN:DAYLIGHT
TZOFFSETFROM:-0500
TZOFFSETTO:-0400
TZNAME:EDT
DTSTART:20220313T070000
END:DAYLIGHT
BEGIN:STANDARD
TZOFFSETFROM:-0400
TZOFFSETTO:-0500
TZNAME:EST
DTSTART:20221106T060000
END:STANDARD
BEGIN:DAYLIGHT
TZOFFSETFROM:-0500
TZOFFSETTO:-0400
TZNAME:EDT
DTSTART:20230312T070000
END:DAYLIGHT
BEGIN:STANDARD
TZOFFSETFROM:-0400
TZOFFSETTO:-0500
TZNAME:EST
DTSTART:20231105T060000
END:STANDARD
BEGIN:DAYLIGHT
TZOFFSETFROM:-0500
TZOFFSETTO:-0400
TZNAME:EDT
DTSTART:20240310T070000
END:DAYLIGHT
BEGIN:STANDARD
TZOFFSETFROM:-0400
TZOFFSETTO:-0500
TZNAME:EST
DTSTART:20241103T060000
END:STANDARD
END:VTIMEZONE
BEGIN:VTIMEZONE
TZID:America/New_York
BEGIN:DAYLIGHT
TZOFFSETFROM:-0500
TZOFFSETTO:-0400
TZNAME:EDT
DTSTART:20220313T070000
END:DAYLIGHT
BEGIN:STANDARD
TZOFFSETFROM:-0400
TZOFFSETTO:-0500
TZNAME:EST
DTSTART:20221106T060000
END:STANDARD
BEGIN:DAYLIGHT
TZOFFSETFROM:-0500
TZOFFSETTO:-0400
TZNAME:EDT
DTSTART:20230312T070000
END:DAYLIGHT
BEGIN:STANDARD
TZOFFSETFROM:-0400
TZOFFSETTO:-0500
TZNAME:EST
DTSTART:20231105T060000
END:STANDARD
BEGIN:DAYLIGHT
TZOFFSETFROM:-0500
TZOFFSETTO:-0400
TZNAME:EDT
DTSTART:20240310T070000
END:DAYLIGHT
BEGIN:STANDARD
TZOFFSETFROM:-0400
TZOFFSETTO:-0500
TZNAME:EST
DTSTART:20241103T060000
END:STANDARD
END:VTIMEZONE
BEGIN:VEVENT
DTSTART;TZID=America/New_York:20231116T080000
DTEND;TZID=America/New_York:20231116T123000
DTSTAMP:20260420T003019
CREATED:20230803T033228Z
LAST-MODIFIED:20230803T033250Z
UID:9667-1700121600-1700137800@www.woodfords.org
SUMMARY:Virtual BHP Live Day - November 16-17\, 2023
DESCRIPTION:This is a blended learning curriculum with 12 online modules and 7 hours (not including breaks) of in-class\, instructor-led training. Participants must successfully complete all 12 online modules no later than 3 days prior to the Live Day session in order to be granted admittance. Completion of an OSHA-compliant Bloodborne pathogens training and current Adult & Child CPR and First Aid certification are also required for BHP certification. Please contact bh*@*******ds.org for more information. \nThe following is required to enroll in a Virtual BHP Live Day session: \n\ncomputer with audio (a headset/earbuds recommended).\nstrong internet connection.\nAdobe Connect – a link and instructions will be emailed one week prior to class.\n\nCost: \n\nNo charge to Provider Agency/School staff providing MaineCare reimbursed services. Additionally\, now through 12/31/23\, the $100 course fee is waived for independent students who are interested in becoming a Certified BHP.
URL:https://www.woodfords.org/training-calendar/virtual-bhp-live-day-2023-11-16_17/
LOCATION:Virtual – Adobe Connect
CATEGORIES:Blended BHP Live Day Calendar
ORGANIZER;CN="Shannon Berger":MAILTO:bhp@woodfords.org
END:VEVENT
BEGIN:VEVENT
DTSTART;TZID=America/New_York:20231116T140000
DTEND;TZID=America/New_York:20231116T151500
DTSTAMP:20260420T003019
CREATED:20230818T160021Z
LAST-MODIFIED:20230818T160021Z
UID:11257-1700143200-1700147700@www.woodfords.org
SUMMARY:CDS Rights & Choice Renewal (MECDS 6)
DESCRIPTION:College of Direct Support Individual Rights & Choice renewal. Participants must be active users in the Maine College of Direct Support site. Cost: $15 for non-WFS learners. \nAdvanced registration required. For more information\, please contact tr************@*******ds.org.
URL:https://www.woodfords.org/training-calendar/cds-rights-choice-renewal-mecds-6-9-2/
LOCATION:Virtual – Adobe Connect
CATEGORIES:College of Direct Support Live,Training Calendar,Virtual Classes
ORGANIZER;CN="Maria Romano":MAILTO:mromano@woodfords.org
END:VEVENT
END:VCALENDAR