BEGIN:VCALENDAR
VERSION:2.0
PRODID:-//Woodfords Family Services - ECPv6.15.20//NONSGML v1.0//EN
CALSCALE:GREGORIAN
METHOD:PUBLISH
X-WR-CALNAME:Woodfords Family Services
X-ORIGINAL-URL:https://www.woodfords.org
X-WR-CALDESC:Events for Woodfords Family Services
REFRESH-INTERVAL;VALUE=DURATION:PT1H
X-Robots-Tag:noindex
X-PUBLISHED-TTL:PT1H
BEGIN:VTIMEZONE
TZID:America/New_York
BEGIN:DAYLIGHT
TZOFFSETFROM:-0500
TZOFFSETTO:-0400
TZNAME:EDT
DTSTART:20220313T070000
END:DAYLIGHT
BEGIN:STANDARD
TZOFFSETFROM:-0400
TZOFFSETTO:-0500
TZNAME:EST
DTSTART:20221106T060000
END:STANDARD
BEGIN:DAYLIGHT
TZOFFSETFROM:-0500
TZOFFSETTO:-0400
TZNAME:EDT
DTSTART:20230312T070000
END:DAYLIGHT
BEGIN:STANDARD
TZOFFSETFROM:-0400
TZOFFSETTO:-0500
TZNAME:EST
DTSTART:20231105T060000
END:STANDARD
BEGIN:DAYLIGHT
TZOFFSETFROM:-0500
TZOFFSETTO:-0400
TZNAME:EDT
DTSTART:20240310T070000
END:DAYLIGHT
BEGIN:STANDARD
TZOFFSETFROM:-0400
TZOFFSETTO:-0500
TZNAME:EST
DTSTART:20241103T060000
END:STANDARD
END:VTIMEZONE
BEGIN:VEVENT
DTSTART;TZID=America/New_York:20231006T083000
DTEND;TZID=America/New_York:20231006T163000
DTSTAMP:20260423T030705
CREATED:20230816T170810Z
LAST-MODIFIED:20230816T170810Z
UID:10462-1696581000-1696609800@www.woodfords.org
SUMMARY:Live Day Training led by Elizabeth Mazzarese & Mary Kate Hubbard
DESCRIPTION:Participants must successfully complete all 12 online modules no later than 3 days prior to the Live Day session in order to be granted admittance. Completion of an OSHA-compliant Bloodborne pathogens training and current Adult & Child CPR and First Aid certification are also required for BHP certification. Please contact bh*@*******ds.org for more information.
URL:https://www.woodfords.org/training-calendar/live-day-training-led-by-elizabeth-mazzarese-mary-kate-hubbard/
LOCATION:York Adult Ed./York Middle School\, 30 Organug Rd.\, York\, ME\, 03909\, United States
CATEGORIES:Blended BHP Live Day Calendar
ORGANIZER;CN="Shannon Berger":MAILTO:bhp@woodfords.org
END:VEVENT
END:VCALENDAR