BEGIN:VCALENDAR
VERSION:2.0
PRODID:-//Woodfords Family Services - ECPv6.15.20//NONSGML v1.0//EN
CALSCALE:GREGORIAN
METHOD:PUBLISH
X-WR-CALNAME:Woodfords Family Services
X-ORIGINAL-URL:https://www.woodfords.org
X-WR-CALDESC:Events for Woodfords Family Services
REFRESH-INTERVAL;VALUE=DURATION:PT1H
X-Robots-Tag:noindex
X-PUBLISHED-TTL:PT1H
BEGIN:VTIMEZONE
TZID:America/New_York
BEGIN:DAYLIGHT
TZOFFSETFROM:-0500
TZOFFSETTO:-0400
TZNAME:EDT
DTSTART:20220313T070000
END:DAYLIGHT
BEGIN:STANDARD
TZOFFSETFROM:-0400
TZOFFSETTO:-0500
TZNAME:EST
DTSTART:20221106T060000
END:STANDARD
BEGIN:DAYLIGHT
TZOFFSETFROM:-0500
TZOFFSETTO:-0400
TZNAME:EDT
DTSTART:20230312T070000
END:DAYLIGHT
BEGIN:STANDARD
TZOFFSETFROM:-0400
TZOFFSETTO:-0500
TZNAME:EST
DTSTART:20231105T060000
END:STANDARD
BEGIN:DAYLIGHT
TZOFFSETFROM:-0500
TZOFFSETTO:-0400
TZNAME:EDT
DTSTART:20240310T070000
END:DAYLIGHT
BEGIN:STANDARD
TZOFFSETFROM:-0400
TZOFFSETTO:-0500
TZNAME:EST
DTSTART:20241103T060000
END:STANDARD
END:VTIMEZONE
BEGIN:VTIMEZONE
TZID:America/New_York
BEGIN:DAYLIGHT
TZOFFSETFROM:-0500
TZOFFSETTO:-0400
TZNAME:EDT
DTSTART:20220313T070000
END:DAYLIGHT
BEGIN:STANDARD
TZOFFSETFROM:-0400
TZOFFSETTO:-0500
TZNAME:EST
DTSTART:20221106T060000
END:STANDARD
BEGIN:DAYLIGHT
TZOFFSETFROM:-0500
TZOFFSETTO:-0400
TZNAME:EDT
DTSTART:20230312T070000
END:DAYLIGHT
BEGIN:STANDARD
TZOFFSETFROM:-0400
TZOFFSETTO:-0500
TZNAME:EST
DTSTART:20231105T060000
END:STANDARD
BEGIN:DAYLIGHT
TZOFFSETFROM:-0500
TZOFFSETTO:-0400
TZNAME:EDT
DTSTART:20240310T070000
END:DAYLIGHT
BEGIN:STANDARD
TZOFFSETFROM:-0400
TZOFFSETTO:-0500
TZNAME:EST
DTSTART:20241103T060000
END:STANDARD
END:VTIMEZONE
BEGIN:VEVENT
DTSTART;TZID=America/New_York:20230808T080000
DTEND;TZID=America/New_York:20230808T163000
DTSTAMP:20260420T065407
CREATED:20230412T170225Z
LAST-MODIFIED:20230412T170225Z
UID:11184-1691481600-1691512200@www.woodfords.org
SUMMARY:CRMA - Day 1
DESCRIPTION:To register for our 24-hour CRMA trainings\, participants must work for an organization where they are able to complete the medication passes required for certification.
URL:https://www.woodfords.org/training-calendar/crma-day-1-8-3/
LOCATION:Westbrook Training & Resource Center\, 15 Saunders Way\, Ste 700\, Westbrook\, ME\, 04092\, United States
CATEGORIES:CRMA Training,Training Calendar
ORGANIZER;CN="Training Center":MAILTO:trainingcenter@woodfords.org
END:VEVENT
BEGIN:VEVENT
DTSTART;TZID=America/New_York:20230808T083000
DTEND;TZID=America/New_York:20230808T163000
DTSTAMP:20260420T065407
CREATED:20230816T170142Z
LAST-MODIFIED:20230816T170551Z
UID:10457-1691483400-1691512200@www.woodfords.org
SUMMARY:Blended Live Day Training led by Audra Warren & Mary Kate Hubbard
DESCRIPTION:Participants must successfully complete all 12 online modules no later than 3 days prior to the Live Day session in order to be granted admittance. Completion of an OSHA-compliant Bloodborne pathogens training and current Adult & Child CPR and First Aid certification are also required for BHP certification. Please contact bh*@*******ds.org for more information.
URL:https://www.woodfords.org/training-calendar/blended-live-day-training-led-by-audra-warren-mary-kate-hubbard/
LOCATION:Westbrook Training & Resource Center\, 15 Saunders Way\, Ste 700\, Westbrook\, ME\, 04092\, United States
CATEGORIES:Blended BHP Live Day Calendar
ORGANIZER;CN="Shannon Berger":MAILTO:bhp@woodfords.org
END:VEVENT
BEGIN:VEVENT
DTSTART;TZID=America/New_York:20230808T090000
DTEND;TZID=America/New_York:20230808T180000
DTSTAMP:20260420T065407
CREATED:20230721T141154Z
LAST-MODIFIED:20230803T034741Z
UID:9265-1691485200-1691517600@www.woodfords.org
SUMMARY:Foundations EIC/Watch Me Shine
DESCRIPTION:Participants must have their Provisional BHP Certificate and hold current Child & Adult CPR/First Aid as well as have proof of completion of an OSHA-compliant Bloodborne pathogens training within the last year. Payment and certificates must be submitted to register. \nEach day is 9:00a.m. to 6:00p.m. Attendance at all 4 days is required for certification.
URL:https://www.woodfords.org/training-calendar/foundations-eic-watch-me-shine-2023-08-08_11/
LOCATION:Foundations EIC/Watch Me Shine\, 74 Gilman Road\, Suite 1\, Bangor\, ME\, 04401\, United States
CATEGORIES:BHP 35 Hour Training Calendar
ORGANIZER;CN="Georgianna Gatcomb-Pass":MAILTO:training@watchmeshine.net
END:VEVENT
END:VCALENDAR