BEGIN:VCALENDAR
VERSION:2.0
PRODID:-//Woodfords Family Services - ECPv6.15.20//NONSGML v1.0//EN
CALSCALE:GREGORIAN
METHOD:PUBLISH
X-ORIGINAL-URL:https://www.woodfords.org
X-WR-CALDESC:Events for Woodfords Family Services
REFRESH-INTERVAL;VALUE=DURATION:PT1H
X-Robots-Tag:noindex
X-PUBLISHED-TTL:PT1H
BEGIN:VTIMEZONE
TZID:America/New_York
BEGIN:DAYLIGHT
TZOFFSETFROM:-0500
TZOFFSETTO:-0400
TZNAME:EDT
DTSTART:20220313T070000
END:DAYLIGHT
BEGIN:STANDARD
TZOFFSETFROM:-0400
TZOFFSETTO:-0500
TZNAME:EST
DTSTART:20221106T060000
END:STANDARD
BEGIN:DAYLIGHT
TZOFFSETFROM:-0500
TZOFFSETTO:-0400
TZNAME:EDT
DTSTART:20230312T070000
END:DAYLIGHT
BEGIN:STANDARD
TZOFFSETFROM:-0400
TZOFFSETTO:-0500
TZNAME:EST
DTSTART:20231105T060000
END:STANDARD
BEGIN:DAYLIGHT
TZOFFSETFROM:-0500
TZOFFSETTO:-0400
TZNAME:EDT
DTSTART:20240310T070000
END:DAYLIGHT
BEGIN:STANDARD
TZOFFSETFROM:-0400
TZOFFSETTO:-0500
TZNAME:EST
DTSTART:20241103T060000
END:STANDARD
END:VTIMEZONE
BEGIN:VEVENT
DTSTART;TZID=America/New_York:20230626T083000
DTEND;TZID=America/New_York:20230626T160000
DTSTAMP:20260419T195912
CREATED:20230412T165607Z
LAST-MODIFIED:20230412T165607Z
UID:11175-1687768200-1687795200@www.woodfords.org
SUMMARY:College of Direct Support Live Day 1 - MECDS 4\,5\,6\,7\,9
DESCRIPTION:This course compliments the online module content of the Maine College of Direct Support. Completion of both Day 1 and Day 2 are required for certification. Learners must be active users in the Maine College of Direct Support to register. \nAdvanced registration required. For more information\, please contact tr************@*******ds.org.
URL:https://www.woodfords.org/training-calendar/college-of-direct-support-live-day-1-mecds-45679-79-2/
LOCATION:Virtual – Adobe Connect
CATEGORIES:College of Direct Support Live,Training Calendar,Virtual Classes
ORGANIZER;CN="Training Center":MAILTO:trainingcenter@woodfords.org
END:VEVENT
BEGIN:VEVENT
DTSTART;TZID=America/New_York:20230626T090000
DTEND;TZID=America/New_York:20230626T120000
DTSTAMP:20260419T195912
CREATED:20230412T170012Z
LAST-MODIFIED:20230412T170012Z
UID:11181-1687770000-1687780800@www.woodfords.org
SUMMARY:CRMA Review
DESCRIPTION:The CRMA Recertification Review class is recommended for all students prior to taking the CRMA Recertification class. This class will cover filling out a MAR sheet using doctors’ orders\, a medication pass\, a demonstration of vital sign skills and a general question and answer review in preparation for the CRMA Recertification class.
URL:https://www.woodfords.org/training-calendar/crma-review-8-2/
LOCATION:Westbrook Training & Resource Center\, 15 Saunders Way\, Ste 700\, Westbrook\, ME\, 04092\, United States
CATEGORIES:CRMA Review & Recertification,CRMA Training,Training Calendar
ORGANIZER;CN="Training Center":MAILTO:trainingcenter@woodfords.org
END:VEVENT
END:VCALENDAR