BEGIN:VCALENDAR
VERSION:2.0
PRODID:-//Woodfords Family Services - ECPv6.15.20//NONSGML v1.0//EN
CALSCALE:GREGORIAN
METHOD:PUBLISH
X-WR-CALNAME:Woodfords Family Services
X-ORIGINAL-URL:https://www.woodfords.org
X-WR-CALDESC:Events for Woodfords Family Services
REFRESH-INTERVAL;VALUE=DURATION:PT1H
X-Robots-Tag:noindex
X-PUBLISHED-TTL:PT1H
BEGIN:VTIMEZONE
TZID:America/New_York
BEGIN:DAYLIGHT
TZOFFSETFROM:-0500
TZOFFSETTO:-0400
TZNAME:EDT
DTSTART:20220313T070000
END:DAYLIGHT
BEGIN:STANDARD
TZOFFSETFROM:-0400
TZOFFSETTO:-0500
TZNAME:EST
DTSTART:20221106T060000
END:STANDARD
BEGIN:DAYLIGHT
TZOFFSETFROM:-0500
TZOFFSETTO:-0400
TZNAME:EDT
DTSTART:20230312T070000
END:DAYLIGHT
BEGIN:STANDARD
TZOFFSETFROM:-0400
TZOFFSETTO:-0500
TZNAME:EST
DTSTART:20231105T060000
END:STANDARD
BEGIN:DAYLIGHT
TZOFFSETFROM:-0500
TZOFFSETTO:-0400
TZNAME:EDT
DTSTART:20240310T070000
END:DAYLIGHT
BEGIN:STANDARD
TZOFFSETFROM:-0400
TZOFFSETTO:-0500
TZNAME:EST
DTSTART:20241103T060000
END:STANDARD
END:VTIMEZONE
BEGIN:VEVENT
DTSTART;TZID=America/New_York:20230622T083000
DTEND;TZID=America/New_York:20230622T113000
DTSTAMP:20260423T222732
CREATED:20230412T173535Z
LAST-MODIFIED:20230412T173535Z
UID:11219-1687422600-1687433400@www.woodfords.org
SUMMARY:Safety-Care for Families; Essential Skills Part I
DESCRIPTION:Safety-Care for Families provides parents\, family members and caregivers with the skills\, interventions and confidence needed to improve behavior and to prevent\, minimize and manage potentially dangerous incidents. \nEssential Skills Part I topics include collaboration with professionals\, legal issues\, challenging behavior\, reinforcement\, safety habits\, elbow check\, safety stance\, managing your own behavior\, differential reinforcement. \nEssential Skills Part I is a prerequisite for Essential Skills Part II. \nThis training is free to families currently receiving services through Woodfords; for all others the fee is $25. \nAdvanced registration required. Please find additional information and registration materials here: June 2023 Parent Training Series
URL:https://www.woodfords.org/training-calendar/safety-care-for-families-essential-skills-part-i-7-3/
LOCATION:Westbrook Training & Resource Center\, 15 Saunders Way\, Ste 700\, Westbrook\, ME\, 04092\, United States
CATEGORIES:Community,Parent Trainings,Training Calendar
ORGANIZER;CN="Training Center":MAILTO:trainingcenter@woodfords.org
END:VEVENT
BEGIN:VEVENT
DTSTART;TZID=America/New_York:20230622T123000
DTEND;TZID=America/New_York:20230622T153000
DTSTAMP:20260423T222732
CREATED:20230412T173629Z
LAST-MODIFIED:20230412T173629Z
UID:11218-1687437000-1687447800@www.woodfords.org
SUMMARY:Safety-Care for Families; Essential Skills Part II
DESCRIPTION:Safety-Care for Families provides parents\, family members and caregivers with the skills\, interventions and confidence needed to improve behavior and to prevent\, minimize and manage potentially dangerous incidents. \nEssential Skills Part II topics include antecedents to challenging behavior\, triggers\, signals\, basic principles of de-escalation\, development of a family safety plan for home and community. \nPrerequisite: Essential Skills Part I  \nThis training is free to families currently receiving services through Woodfords; for all others the fee is $25. \nAdvanced registration required. Please find additional information and registration materials here: June 2023 Parent Training Series \n 
URL:https://www.woodfords.org/training-calendar/safety-care-for-families-essential-skills-part-ii-7-3/
LOCATION:Westbrook Training & Resource Center\, 15 Saunders Way\, Ste 700\, Westbrook\, ME\, 04092\, United States
CATEGORIES:Community,Parent Trainings,Training Calendar
ORGANIZER;CN="Training Center":MAILTO:trainingcenter@woodfords.org
END:VEVENT
END:VCALENDAR