BEGIN:VCALENDAR
VERSION:2.0
PRODID:-//Woodfords Family Services - ECPv6.15.20//NONSGML v1.0//EN
CALSCALE:GREGORIAN
METHOD:PUBLISH
X-ORIGINAL-URL:https://www.woodfords.org
X-WR-CALDESC:Events for Woodfords Family Services
REFRESH-INTERVAL;VALUE=DURATION:PT1H
X-Robots-Tag:noindex
X-PUBLISHED-TTL:PT1H
BEGIN:VTIMEZONE
TZID:America/New_York
BEGIN:DAYLIGHT
TZOFFSETFROM:-0500
TZOFFSETTO:-0400
TZNAME:EDT
DTSTART:20130310T070000
END:DAYLIGHT
BEGIN:STANDARD
TZOFFSETFROM:-0400
TZOFFSETTO:-0500
TZNAME:EST
DTSTART:20131103T060000
END:STANDARD
BEGIN:DAYLIGHT
TZOFFSETFROM:-0500
TZOFFSETTO:-0400
TZNAME:EDT
DTSTART:20140309T070000
END:DAYLIGHT
BEGIN:STANDARD
TZOFFSETFROM:-0400
TZOFFSETTO:-0500
TZNAME:EST
DTSTART:20141102T060000
END:STANDARD
BEGIN:DAYLIGHT
TZOFFSETFROM:-0500
TZOFFSETTO:-0400
TZNAME:EDT
DTSTART:20150308T070000
END:DAYLIGHT
BEGIN:STANDARD
TZOFFSETFROM:-0400
TZOFFSETTO:-0500
TZNAME:EST
DTSTART:20151101T060000
END:STANDARD
BEGIN:DAYLIGHT
TZOFFSETFROM:-0500
TZOFFSETTO:-0400
TZNAME:EDT
DTSTART:20160313T070000
END:DAYLIGHT
BEGIN:STANDARD
TZOFFSETFROM:-0400
TZOFFSETTO:-0500
TZNAME:EST
DTSTART:20161106T060000
END:STANDARD
BEGIN:DAYLIGHT
TZOFFSETFROM:-0500
TZOFFSETTO:-0400
TZNAME:EDT
DTSTART:20170312T070000
END:DAYLIGHT
BEGIN:STANDARD
TZOFFSETFROM:-0400
TZOFFSETTO:-0500
TZNAME:EST
DTSTART:20171105T060000
END:STANDARD
BEGIN:DAYLIGHT
TZOFFSETFROM:-0500
TZOFFSETTO:-0400
TZNAME:EDT
DTSTART:20180311T070000
END:DAYLIGHT
BEGIN:STANDARD
TZOFFSETFROM:-0400
TZOFFSETTO:-0500
TZNAME:EST
DTSTART:20181104T060000
END:STANDARD
BEGIN:DAYLIGHT
TZOFFSETFROM:-0500
TZOFFSETTO:-0400
TZNAME:EDT
DTSTART:20190310T070000
END:DAYLIGHT
BEGIN:STANDARD
TZOFFSETFROM:-0400
TZOFFSETTO:-0500
TZNAME:EST
DTSTART:20191103T060000
END:STANDARD
BEGIN:DAYLIGHT
TZOFFSETFROM:-0500
TZOFFSETTO:-0400
TZNAME:EDT
DTSTART:20200308T070000
END:DAYLIGHT
BEGIN:STANDARD
TZOFFSETFROM:-0400
TZOFFSETTO:-0500
TZNAME:EST
DTSTART:20201101T060000
END:STANDARD
BEGIN:DAYLIGHT
TZOFFSETFROM:-0500
TZOFFSETTO:-0400
TZNAME:EDT
DTSTART:20210314T070000
END:DAYLIGHT
BEGIN:STANDARD
TZOFFSETFROM:-0400
TZOFFSETTO:-0500
TZNAME:EST
DTSTART:20211107T060000
END:STANDARD
BEGIN:DAYLIGHT
TZOFFSETFROM:-0500
TZOFFSETTO:-0400
TZNAME:EDT
DTSTART:20220313T070000
END:DAYLIGHT
BEGIN:STANDARD
TZOFFSETFROM:-0400
TZOFFSETTO:-0500
TZNAME:EST
DTSTART:20221106T060000
END:STANDARD
BEGIN:DAYLIGHT
TZOFFSETFROM:-0500
TZOFFSETTO:-0400
TZNAME:EDT
DTSTART:20230312T070000
END:DAYLIGHT
BEGIN:STANDARD
TZOFFSETFROM:-0400
TZOFFSETTO:-0500
TZNAME:EST
DTSTART:20231105T060000
END:STANDARD
END:VTIMEZONE
BEGIN:VEVENT
DTSTART;TZID=America/New_York:20140314T130000
DTEND;TZID=America/New_York:20220928T160000
DTSTAMP:20260424T064020
CREATED:20221118T171555Z
LAST-MODIFIED:20221118T171555Z
UID:8393-1394802000-1664380800@www.woodfords.org
SUMMARY:CRMA Review
DESCRIPTION:The CRMA Recertification Review class is recommended for all students prior to taking the CRMA Recertification class. This class will cover filling out a MAR sheet using doctors’ orders\, a medication pass\, a demonstration of vital sign skills and a general question and answer review in preparation for the CRMA Recertification class.
URL:https://www.woodfords.org/training-calendar/crma-review-6/
LOCATION:Westbrook Training & Resource Center\, 15 Saunders Way\, Ste 700\, Westbrook\, ME\, 04092\, United States
CATEGORIES:CRMA Review & Recertification,CRMA Training,Training Calendar
ORGANIZER;CN="Training Center":MAILTO:trainingcenter@woodfords.org
END:VEVENT
BEGIN:VEVENT
DTSTART;TZID=America/New_York:20140314T130000
DTEND;TZID=America/New_York:20220928T160000
DTSTAMP:20260424T064020
CREATED:20221118T171555Z
LAST-MODIFIED:20221118T171555Z
UID:11136-1394802000-1664380800@www.woodfords.org
SUMMARY:CRMA Review
DESCRIPTION:The CRMA Recertification Review class is recommended for all students prior to taking the CRMA Recertification class. This class will cover filling out a MAR sheet using doctors’ orders\, a medication pass\, a demonstration of vital sign skills and a general question and answer review in preparation for the CRMA Recertification class.
URL:https://www.woodfords.org/training-calendar/crma-review-6-3/
LOCATION:Westbrook Training & Resource Center\, 15 Saunders Way\, Ste 700\, Westbrook\, ME\, 04092\, United States
CATEGORIES:CRMA Review & Recertification,CRMA Training,Training Calendar
ORGANIZER;CN="Training Center":MAILTO:trainingcenter@woodfords.org
END:VEVENT
BEGIN:VEVENT
DTSTART;TZID=America/New_York:20220914T083000
DTEND;TZID=America/New_York:20220914T170000
DTSTAMP:20260424T064020
CREATED:20220804T203051Z
LAST-MODIFIED:20220804T203051Z
UID:8177-1663144200-1663174800@www.woodfords.org
SUMMARY:
DESCRIPTION:Day three of the three-day/24-hour CRMA Training. To register for our 24-hour CRMA trainings\, participants must work for an organization where they are able to complete the medication passes required for certification.
URL:https://www.woodfords.org/training-calendar/8177/
LOCATION:Westbrook Training & Resource Center\, 15 Saunders Way\, Ste 700\, Westbrook\, ME\, 04092\, United States
CATEGORIES:CRMA Training,Training Calendar
ORGANIZER;CN="Training Center":MAILTO:trainingcenter@woodfords.org
END:VEVENT
BEGIN:VEVENT
DTSTART;TZID=America/New_York:20220914T083000
DTEND;TZID=America/New_York:20220914T170000
DTSTAMP:20260424T064020
CREATED:20220804T203051Z
LAST-MODIFIED:20220804T203051Z
UID:11093-1663144200-1663174800@www.woodfords.org
SUMMARY:
DESCRIPTION:Day three of the three-day/24-hour CRMA Training. To register for our 24-hour CRMA trainings\, participants must work for an organization where they are able to complete the medication passes required for certification.
URL:https://www.woodfords.org/training-calendar/8177-3/
LOCATION:Westbrook Training & Resource Center\, 15 Saunders Way\, Ste 700\, Westbrook\, ME\, 04092\, United States
CATEGORIES:CRMA Training,Training Calendar
ORGANIZER;CN="Training Center":MAILTO:trainingcenter@woodfords.org
END:VEVENT
BEGIN:VEVENT
DTSTART;TZID=America/New_York:20220914T083000
DTEND;TZID=America/New_York:20220914T170000
DTSTAMP:20260424T064020
CREATED:20220804T203220Z
LAST-MODIFIED:20220804T203220Z
UID:11094-1663144200-1663174800@www.woodfords.org
SUMMARY:CRMA - Day 3
DESCRIPTION:Day one of the three-day/24-hour CRMA Training. To register for our 24-hour CRMA trainings\, participants must work for an organization where they are able to complete the medication passes required for certification.
URL:https://www.woodfords.org/training-calendar/crma-day-3-12/
LOCATION:Westbrook Training & Resource Center\, 15 Saunders Way\, Ste 700\, Westbrook\, ME\, 04092\, United States
ORGANIZER;CN="Training Center":MAILTO:trainingcenter@woodfords.org
END:VEVENT
BEGIN:VEVENT
DTSTART;TZID=America/New_York:20220914T083000
DTEND;TZID=America/New_York:20220914T170000
DTSTAMP:20260424T064020
CREATED:20220804T203220Z
LAST-MODIFIED:20220804T203220Z
UID:8179-1663144200-1663174800@www.woodfords.org
SUMMARY:CRMA - Day 3
DESCRIPTION:Day one of the three-day/24-hour CRMA Training. To register for our 24-hour CRMA trainings\, participants must work for an organization where they are able to complete the medication passes required for certification.
URL:https://www.woodfords.org/training-calendar/crma-day-3/
LOCATION:Westbrook Training & Resource Center\, 15 Saunders Way\, Ste 700\, Westbrook\, ME\, 04092\, United States
ORGANIZER;CN="Training Center":MAILTO:trainingcenter@woodfords.org
END:VEVENT
BEGIN:VEVENT
DTSTART;TZID=America/New_York:20220914T140000
DTEND;TZID=America/New_York:20220914T151500
DTSTAMP:20260424T064020
CREATED:20220804T183851Z
LAST-MODIFIED:20220804T183925Z
UID:8105-1663164000-1663168500@www.woodfords.org
SUMMARY:CDS Rights & Choice Renewal (MECDS 6)
DESCRIPTION:College of Direct Support Individual Rights & Choice renewal. Participants must be active users in the Maine College of Direct Support site. Cost: $15 for non-WFS learners. \nAdvanced registration required. For more information\, please contact tr************@*******ds.org.
URL:https://www.woodfords.org/training-calendar/cds-rights-choice-renewal/
LOCATION:Westbrook Training & Resource Center\, 15 Saunders Way\, Ste 700\, Westbrook\, ME\, 04092\, United States
CATEGORIES:College of Direct Support Live,Training Calendar,Virtual Classes
ORGANIZER;CN="Maria Romano":MAILTO:mromano@woodfords.org
END:VEVENT
BEGIN:VEVENT
DTSTART;TZID=America/New_York:20220914T140000
DTEND;TZID=America/New_York:20220914T151500
DTSTAMP:20260424T064020
CREATED:20220804T183851Z
LAST-MODIFIED:20220804T183851Z
UID:11069-1663164000-1663168500@www.woodfords.org
SUMMARY:CDS Rights & Choice Renewal (MECDS 6)
DESCRIPTION:College of Direct Support Individual Rights & Choice renewal. Participants must be active users in the Maine College of Direct Support site. Cost: $15 for non-WFS learners. \nAdvanced registration required. For more information\, please contact tr************@*******ds.org.
URL:https://www.woodfords.org/training-calendar/cds-rights-choice-renewal-3/
LOCATION:Westbrook Training & Resource Center\, 15 Saunders Way\, Ste 700\, Westbrook\, ME\, 04092\, United States
CATEGORIES:College of Direct Support Live,Training Calendar,Virtual Classes
ORGANIZER;CN="Maria Romano":MAILTO:mromano@woodfords.org
END:VEVENT
END:VCALENDAR